BEGIN:VCALENDAR
VERSION:2.0
PRODID:-//NADI Guchil, Kuala Krai - ECPv6.15.20//NONSGML v1.0//EN
CALSCALE:GREGORIAN
METHOD:PUBLISH
X-WR-CALNAME:NADI Guchil, Kuala Krai
X-ORIGINAL-URL:https://guchil.nadi.my
X-WR-CALDESC:Events for NADI Guchil, Kuala Krai
REFRESH-INTERVAL;VALUE=DURATION:PT1H
X-Robots-Tag:noindex
X-PUBLISHED-TTL:PT1H
BEGIN:VTIMEZONE
TZID:UTC
BEGIN:STANDARD
TZOFFSETFROM:+0000
TZOFFSETTO:+0000
TZNAME:UTC
DTSTART:20240101T000000
END:STANDARD
END:VTIMEZONE
BEGIN:VEVENT
DTSTART;TZID=UTC:20250503T110000
DTEND;TZID=UTC:20250503T120000
DTSTAMP:20260425T185057
CREATED:20250423T073539Z
LAST-MODIFIED:20250423T073539Z
UID:5079-1746270000-1746273600@guchil.nadi.my
SUMMARY:PROGRAM BERSAMA KOMUNITI MADANI
DESCRIPTION:
URL:https://guchil.nadi.my/event/program-bersama-komuniti-madani-3/
LOCATION:NADI GUCHIL\, NADI GUCHIL
END:VEVENT
BEGIN:VEVENT
DTSTART;TZID=UTC:20250503T150000
DTEND;TZID=UTC:20250503T160000
DTSTAMP:20260425T185057
CREATED:20250423T073455Z
LAST-MODIFIED:20250423T073455Z
UID:5077-1746284400-1746288000@guchil.nadi.my
SUMMARY:KELAS MAHIR JAHIT
DESCRIPTION:
URL:https://guchil.nadi.my/event/kelas-mahir-jahit-2/
LOCATION:NADI GUCHIL\, NADI GUCHIL
END:VEVENT
END:VCALENDAR