BEGIN:VCALENDAR
VERSION:2.0
PRODID:-//NADI Guchil, Kuala Krai - ECPv6.15.20//NONSGML v1.0//EN
CALSCALE:GREGORIAN
METHOD:PUBLISH
X-WR-CALNAME:NADI Guchil, Kuala Krai
X-ORIGINAL-URL:https://guchil.nadi.my
X-WR-CALDESC:Events for NADI Guchil, Kuala Krai
REFRESH-INTERVAL;VALUE=DURATION:PT1H
X-Robots-Tag:noindex
X-PUBLISHED-TTL:PT1H
BEGIN:VTIMEZONE
TZID:UTC
BEGIN:STANDARD
TZOFFSETFROM:+0000
TZOFFSETTO:+0000
TZNAME:UTC
DTSTART:20240101T000000
END:STANDARD
END:VTIMEZONE
BEGIN:VEVENT
DTSTART;TZID=UTC:20250523T093000
DTEND;TZID=UTC:20250523T103000
DTSTAMP:20260425T185208
CREATED:20250423T075440Z
LAST-MODIFIED:20250423T075440Z
UID:5118-1747992600-1747996200@guchil.nadi.my
SUMMARY:KELAS MAHIR MASAK
DESCRIPTION:
URL:https://guchil.nadi.my/event/kelas-mahir-masak-4/
LOCATION:NADI GUCHIL\, NADI GUCHIL
END:VEVENT
BEGIN:VEVENT
DTSTART;TZID=UTC:20250523T150000
DTEND;TZID=UTC:20250523T160000
DTSTAMP:20260425T185208
CREATED:20250423T075549Z
LAST-MODIFIED:20250423T075549Z
UID:5121-1748012400-1748016000@guchil.nadi.my
SUMMARY:KELAS MAHIR JAHIT
DESCRIPTION:
URL:https://guchil.nadi.my/event/kelas-mahir-jahit-7/
LOCATION:NADI GUCHIL\, NADI GUCHIL
END:VEVENT
END:VCALENDAR