BEGIN:VCALENDAR
VERSION:2.0
PRODID:-//NADI Guchil, Kuala Krai - ECPv6.15.20//NONSGML v1.0//EN
CALSCALE:GREGORIAN
METHOD:PUBLISH
X-WR-CALNAME:NADI Guchil, Kuala Krai
X-ORIGINAL-URL:https://guchil.nadi.my
X-WR-CALDESC:Events for NADI Guchil, Kuala Krai
REFRESH-INTERVAL;VALUE=DURATION:PT1H
X-Robots-Tag:noindex
X-PUBLISHED-TTL:PT1H
BEGIN:VTIMEZONE
TZID:UTC
BEGIN:STANDARD
TZOFFSETFROM:+0000
TZOFFSETTO:+0000
TZNAME:UTC
DTSTART:20240101T000000
END:STANDARD
END:VTIMEZONE
BEGIN:VEVENT
DTSTART;TZID=UTC:20250705T100000
DTEND;TZID=UTC:20250705T110000
DTSTAMP:20260425T104039
CREATED:20250625T072411Z
LAST-MODIFIED:20250625T072411Z
UID:5961-1751709600-1751713200@guchil.nadi.my
SUMMARY:USAHAWAN CILIK COHORT 3 - VIDEO 3 PEMASARAN
DESCRIPTION:
URL:https://guchil.nadi.my/event/usahawan-cilik-cohort-3-video-3-pemasaran/
LOCATION:NADI GUCHIL\, NADI GUCHIL
END:VEVENT
BEGIN:VEVENT
DTSTART;TZID=UTC:20250705T110000
DTEND;TZID=UTC:20250705T120000
DTSTAMP:20260425T104039
CREATED:20250625T072523Z
LAST-MODIFIED:20250625T072523Z
UID:5963-1751713200-1751716800@guchil.nadi.my
SUMMARY:PROGRAM BERSAMA KOMUNITI MADANI
DESCRIPTION:
URL:https://guchil.nadi.my/event/program-bersama-komuniti-madani-5/
LOCATION:NADI GUCHIL\, NADI GUCHIL
END:VEVENT
END:VCALENDAR