BEGIN:VCALENDAR
VERSION:2.0
PRODID:-//NADI Guchil, Kuala Krai - ECPv6.15.20//NONSGML v1.0//EN
CALSCALE:GREGORIAN
METHOD:PUBLISH
X-WR-CALNAME:NADI Guchil, Kuala Krai
X-ORIGINAL-URL:https://guchil.nadi.my
X-WR-CALDESC:Events for NADI Guchil, Kuala Krai
REFRESH-INTERVAL;VALUE=DURATION:PT1H
X-Robots-Tag:noindex
X-PUBLISHED-TTL:PT1H
BEGIN:VTIMEZONE
TZID:UTC
BEGIN:STANDARD
TZOFFSETFROM:+0000
TZOFFSETTO:+0000
TZNAME:UTC
DTSTART:20240101T000000
END:STANDARD
END:VTIMEZONE
BEGIN:VEVENT
DTSTART;TZID=UTC:20250709T100000
DTEND;TZID=UTC:20250709T150000
DTSTAMP:20260425T185102
CREATED:20250625T072928Z
LAST-MODIFIED:20250625T072928Z
UID:5970-1752055200-1752073200@guchil.nadi.my
SUMMARY:KAUNTER LITAR PENDAFTARAN PERNIAGAAN SSM
DESCRIPTION:
URL:https://guchil.nadi.my/event/kaunter-litar-pendaftaran-perniagaan-ssm-2/
LOCATION:NADI GUCHIL\, NADI GUCHIL
END:VEVENT
BEGIN:VEVENT
DTSTART;TZID=UTC:20250709T103000
DTEND;TZID=UTC:20250709T110000
DTSTAMP:20260425T185102
CREATED:20250625T073006Z
LAST-MODIFIED:20250625T073006Z
UID:5972-1752057000-1752058800@guchil.nadi.my
SUMMARY:HEALTH TIPS
DESCRIPTION:
URL:https://guchil.nadi.my/event/health-tips-6/
LOCATION:NADI GUCHIL\, NADI GUCHIL
END:VEVENT
END:VCALENDAR