BEGIN:VCALENDAR
VERSION:2.0
PRODID:-//NADI Guchil, Kuala Krai - ECPv6.15.20//NONSGML v1.0//EN
CALSCALE:GREGORIAN
METHOD:PUBLISH
X-WR-CALNAME:NADI Guchil, Kuala Krai
X-ORIGINAL-URL:https://guchil.nadi.my
X-WR-CALDESC:Events for NADI Guchil, Kuala Krai
REFRESH-INTERVAL;VALUE=DURATION:PT1H
X-Robots-Tag:noindex
X-PUBLISHED-TTL:PT1H
BEGIN:VTIMEZONE
TZID:UTC
BEGIN:STANDARD
TZOFFSETFROM:+0000
TZOFFSETTO:+0000
TZNAME:UTC
DTSTART:20240101T000000
END:STANDARD
END:VTIMEZONE
BEGIN:VEVENT
DTSTART;TZID=UTC:20250802T100000
DTEND;TZID=UTC:20250802T110000
DTSTAMP:20260423T230902
CREATED:20250723T021708Z
LAST-MODIFIED:20250723T021708Z
UID:6644-1754128800-1754132400@guchil.nadi.my
SUMMARY:TINY TECHIES : MICRO BIT
DESCRIPTION:
URL:https://guchil.nadi.my/event/tiny-techies-micro-bit/
LOCATION:NADI GUCHIL\, NADI GUCHIL
END:VEVENT
BEGIN:VEVENT
DTSTART;TZID=UTC:20250802T110000
DTEND;TZID=UTC:20250802T120000
DTSTAMP:20260423T230902
CREATED:20250723T021618Z
LAST-MODIFIED:20250723T021618Z
UID:6642-1754132400-1754136000@guchil.nadi.my
SUMMARY:PROGRAM BERSAMA KOMUNITI MADANI
DESCRIPTION:
URL:https://guchil.nadi.my/event/program-bersama-komuniti-madani-7/
LOCATION:NADI GUCHIL\, NADI GUCHIL
END:VEVENT
END:VCALENDAR