BEGIN:VCALENDAR
VERSION:2.0
PRODID:-//NADI Guchil, Kuala Krai - ECPv6.15.13.1//NONSGML v1.0//EN
CALSCALE:GREGORIAN
METHOD:PUBLISH
X-WR-CALNAME:NADI Guchil, Kuala Krai
X-ORIGINAL-URL:https://guchil.nadi.my
X-WR-CALDESC:Events for NADI Guchil, Kuala Krai
REFRESH-INTERVAL;VALUE=DURATION:PT1H
X-Robots-Tag:noindex
X-PUBLISHED-TTL:PT1H
BEGIN:VTIMEZONE
TZID:UTC
BEGIN:STANDARD
TZOFFSETFROM:+0000
TZOFFSETTO:+0000
TZNAME:UTC
DTSTART:20240101T000000
END:STANDARD
END:VTIMEZONE
BEGIN:VEVENT
DTSTART;TZID=UTC:20250804T100000
DTEND;TZID=UTC:20250804T150000
DTSTAMP:20260423T062905
CREATED:20250723T021841Z
LAST-MODIFIED:20250723T023439Z
UID:6646-1754301600-1754319600@guchil.nadi.my
SUMMARY:USAHAWAN EKLASS : MODUL 1-2
DESCRIPTION:
URL:https://guchil.nadi.my/event/usahawan-eklass-modul-1/
LOCATION:NADI GUCHIL\, NADI GUCHIL
END:VEVENT
END:VCALENDAR