BEGIN:VCALENDAR
VERSION:2.0
PRODID:-//NADI Guchil, Kuala Krai - ECPv6.15.20//NONSGML v1.0//EN
CALSCALE:GREGORIAN
METHOD:PUBLISH
X-WR-CALNAME:NADI Guchil, Kuala Krai
X-ORIGINAL-URL:https://guchil.nadi.my
X-WR-CALDESC:Events for NADI Guchil, Kuala Krai
REFRESH-INTERVAL;VALUE=DURATION:PT1H
X-Robots-Tag:noindex
X-PUBLISHED-TTL:PT1H
BEGIN:VTIMEZONE
TZID:UTC
BEGIN:STANDARD
TZOFFSETFROM:+0000
TZOFFSETTO:+0000
TZNAME:UTC
DTSTART:20240101T000000
END:STANDARD
END:VTIMEZONE
BEGIN:VEVENT
DTSTART;TZID=UTC:20250812T143000
DTEND;TZID=UTC:20250814T163000
DTSTAMP:20260424T034035
CREATED:20250723T025415Z
LAST-MODIFIED:20250723T025415Z
UID:6682-1755009000-1755189000@guchil.nadi.my
SUMMARY:TINY TECHIES - REGIONAL BOOTCAMPS & COMPETITIONS (CENTRAL & SOUTHERN)
DESCRIPTION:
URL:https://guchil.nadi.my/event/tiny-techies-regional-bootcamps-competitions-central-southern/
LOCATION:NADI GUCHIL\, NADI GUCHIL
END:VEVENT
BEGIN:VEVENT
DTSTART;TZID=UTC:20250814T100000
DTEND;TZID=UTC:20250814T110000
DTSTAMP:20260424T034035
CREATED:20250723T023001Z
LAST-MODIFIED:20250723T064425Z
UID:6659-1755165600-1755169200@guchil.nadi.my
SUMMARY:USAHAWAN COHORT 4 : WEBINAR PEMASARAN & OPERASI PERNIAGAAN
DESCRIPTION:
URL:https://guchil.nadi.my/event/cohort-4-webinar-pemasaran-operasi-perniagaan/
LOCATION:NADI GUCHIL\, NADI GUCHIL
END:VEVENT
BEGIN:VEVENT
DTSTART;TZID=UTC:20250814T100000
DTEND;TZID=UTC:20250814T150000
DTSTAMP:20260424T034035
CREATED:20250723T024755Z
LAST-MODIFIED:20250723T024755Z
UID:6680-1755165600-1755183600@guchil.nadi.my
SUMMARY:USAHAWAN EKLASS : MODUL 3-4
DESCRIPTION:
URL:https://guchil.nadi.my/event/usahawan-eklass-modul-3-4-2/
LOCATION:NADI GUCHIL\, NADI GUCHIL
END:VEVENT
BEGIN:VEVENT
DTSTART;TZID=UTC:20250814T150000
DTEND;TZID=UTC:20250814T163000
DTSTAMP:20260424T034035
CREATED:20250723T030849Z
LAST-MODIFIED:20250723T030849Z
UID:6687-1755183600-1755189000@guchil.nadi.my
SUMMARY:CYBERSECURITY : WEBINAR
DESCRIPTION:
URL:https://guchil.nadi.my/event/cybersecurity-webinar/
LOCATION:NADI GUCHIL\, NADI GUCHIL
END:VEVENT
END:VCALENDAR