BEGIN:VCALENDAR
VERSION:2.0
PRODID:-//NADI Guchil, Kuala Krai - ECPv6.15.20//NONSGML v1.0//EN
CALSCALE:GREGORIAN
METHOD:PUBLISH
X-WR-CALNAME:NADI Guchil, Kuala Krai
X-ORIGINAL-URL:https://guchil.nadi.my
X-WR-CALDESC:Events for NADI Guchil, Kuala Krai
REFRESH-INTERVAL;VALUE=DURATION:PT1H
X-Robots-Tag:noindex
X-PUBLISHED-TTL:PT1H
BEGIN:VTIMEZONE
TZID:UTC
BEGIN:STANDARD
TZOFFSETFROM:+0000
TZOFFSETTO:+0000
TZNAME:UTC
DTSTART:20240101T000000
END:STANDARD
END:VTIMEZONE
BEGIN:VEVENT
DTSTART;TZID=UTC:20250903T100000
DTEND;TZID=UTC:20250903T223000
DTSTAMP:20260423T232028
CREATED:20250822T064536Z
LAST-MODIFIED:20250822T064536Z
UID:7362-1756893600-1756938600@guchil.nadi.my
SUMMARY:NADI-CARE : HEALTH TIPS
DESCRIPTION:
URL:https://guchil.nadi.my/event/nadi-care-health-tips/
LOCATION:NADI GUCHIL\, NADI GUCHIL
END:VEVENT
BEGIN:VEVENT
DTSTART;TZID=UTC:20250903T150000
DTEND;TZID=UTC:20250903T163000
DTSTAMP:20260423T232028
CREATED:20250822T064619Z
LAST-MODIFIED:20250822T064619Z
UID:7364-1756911600-1756917000@guchil.nadi.my
SUMMARY:MAHIR FOTO & JAHIT
DESCRIPTION:
URL:https://guchil.nadi.my/event/mahir-foto-jahit/
LOCATION:NADI GUCHIL\, NADI GUCHIL
END:VEVENT
END:VCALENDAR