BEGIN:VCALENDAR
VERSION:2.0
PRODID:-//NADI Guchil, Kuala Krai - ECPv6.15.20//NONSGML v1.0//EN
CALSCALE:GREGORIAN
METHOD:PUBLISH
X-WR-CALNAME:NADI Guchil, Kuala Krai
X-ORIGINAL-URL:https://guchil.nadi.my
X-WR-CALDESC:Events for NADI Guchil, Kuala Krai
REFRESH-INTERVAL;VALUE=DURATION:PT1H
X-Robots-Tag:noindex
X-PUBLISHED-TTL:PT1H
BEGIN:VTIMEZONE
TZID:UTC
BEGIN:STANDARD
TZOFFSETFROM:+0000
TZOFFSETTO:+0000
TZNAME:UTC
DTSTART:20240101T000000
END:STANDARD
END:VTIMEZONE
BEGIN:VEVENT
DTSTART;TZID=UTC:20250910T100000
DTEND;TZID=UTC:20250910T103000
DTSTAMP:20260424T010024
CREATED:20250822T065241Z
LAST-MODIFIED:20250822T065241Z
UID:7380-1757498400-1757500200@guchil.nadi.my
SUMMARY:NADI-CARE : HEALTH TIPS
DESCRIPTION:
URL:https://guchil.nadi.my/event/nadi-care-health-tips-2/
LOCATION:NADI GUCHIL\, NADI GUCHIL
END:VEVENT
BEGIN:VEVENT
DTSTART;TZID=UTC:20250910T150000
DTEND;TZID=UTC:20250910T163000
DTSTAMP:20260424T010024
CREATED:20250822T065201Z
LAST-MODIFIED:20250822T065201Z
UID:7378-1757516400-1757521800@guchil.nadi.my
SUMMARY:MAHIR FOTO & JAHIT
DESCRIPTION:
URL:https://guchil.nadi.my/event/mahir-foto-jahit-2/
LOCATION:NADI GUCHIL\, NADI GUCHIL
END:VEVENT
END:VCALENDAR