BEGIN:VCALENDAR
VERSION:2.0
PRODID:-//NADI Guchil, Kuala Krai - ECPv6.15.20//NONSGML v1.0//EN
CALSCALE:GREGORIAN
METHOD:PUBLISH
X-WR-CALNAME:NADI Guchil, Kuala Krai
X-ORIGINAL-URL:https://guchil.nadi.my
X-WR-CALDESC:Events for NADI Guchil, Kuala Krai
REFRESH-INTERVAL;VALUE=DURATION:PT1H
X-Robots-Tag:noindex
X-PUBLISHED-TTL:PT1H
BEGIN:VTIMEZONE
TZID:UTC
BEGIN:STANDARD
TZOFFSETFROM:+0000
TZOFFSETTO:+0000
TZNAME:UTC
DTSTART:20240101T000000
END:STANDARD
END:VTIMEZONE
BEGIN:VEVENT
DTSTART;TZID=UTC:20250926T093000
DTEND;TZID=UTC:20250926T110000
DTSTAMP:20260424T104042
CREATED:20250822T070857Z
LAST-MODIFIED:20250822T070857Z
UID:7422-1758879000-1758884400@guchil.nadi.my
SUMMARY:MAHIR MASAK
DESCRIPTION:
URL:https://guchil.nadi.my/event/mahir-masak-19/
LOCATION:NADI GUCHIL\, NADI GUCHIL
END:VEVENT
BEGIN:VEVENT
DTSTART;TZID=UTC:20250926T103000
DTEND;TZID=UTC:20250926T113000
DTSTAMP:20260424T104042
CREATED:20250822T070933Z
LAST-MODIFIED:20250822T070933Z
UID:7424-1758882600-1758886200@guchil.nadi.my
SUMMARY:NADI-CARE : WEBINAR
DESCRIPTION:
URL:https://guchil.nadi.my/event/nadi-care-webinar-6/
LOCATION:NADI GUCHIL\, NADI GUCHIL
END:VEVENT
END:VCALENDAR