BEGIN:VCALENDAR
VERSION:2.0
PRODID:-//NADI Guchil, Kuala Krai - ECPv6.15.13.1//NONSGML v1.0//EN
CALSCALE:GREGORIAN
METHOD:PUBLISH
X-WR-CALNAME:NADI Guchil, Kuala Krai
X-ORIGINAL-URL:https://guchil.nadi.my
X-WR-CALDESC:Events for NADI Guchil, Kuala Krai
REFRESH-INTERVAL;VALUE=DURATION:PT1H
X-Robots-Tag:noindex
X-PUBLISHED-TTL:PT1H
BEGIN:VTIMEZONE
TZID:UTC
BEGIN:STANDARD
TZOFFSETFROM:+0000
TZOFFSETTO:+0000
TZNAME:UTC
DTSTART:20240101T000000
END:STANDARD
END:VTIMEZONE
BEGIN:VEVENT
DTSTART;TZID=UTC:20251001T090000
DTEND;TZID=UTC:20251008T180000
DTSTAMP:20260422T234046
CREATED:20250926T092936Z
LAST-MODIFIED:20250926T092936Z
UID:7977-1759309200-1759946400@guchil.nadi.my
SUMMARY:DILEA : REVISION VIDEO 9\, 10
DESCRIPTION:DI
URL:https://guchil.nadi.my/event/dilea-revision-video-9-10/
LOCATION:NADI GUCHIL\, NADI GUCHIL
END:VEVENT
BEGIN:VEVENT
DTSTART;TZID=UTC:20251003T150000
DTEND;TZID=UTC:20251005T170000
DTSTAMP:20260422T234046
CREATED:20250926T092022Z
LAST-MODIFIED:20250926T092022Z
UID:7967-1759503600-1759683600@guchil.nadi.my
SUMMARY:E-SPORT : AWARNESS CLASSES
DESCRIPTION:
URL:https://guchil.nadi.my/event/e-sport-awarness-classes/
LOCATION:NADI GUCHIL\, NADI GUCHIL
END:VEVENT
END:VCALENDAR