BEGIN:VCALENDAR
VERSION:2.0
PRODID:-//NADI Guchil, Kuala Krai - ECPv6.15.13.1//NONSGML v1.0//EN
CALSCALE:GREGORIAN
METHOD:PUBLISH
X-WR-CALNAME:NADI Guchil, Kuala Krai
X-ORIGINAL-URL:https://guchil.nadi.my
X-WR-CALDESC:Events for NADI Guchil, Kuala Krai
REFRESH-INTERVAL;VALUE=DURATION:PT1H
X-Robots-Tag:noindex
X-PUBLISHED-TTL:PT1H
BEGIN:VTIMEZONE
TZID:UTC
BEGIN:STANDARD
TZOFFSETFROM:+0000
TZOFFSETTO:+0000
TZNAME:UTC
DTSTART:20240101T000000
END:STANDARD
END:VTIMEZONE
BEGIN:VEVENT
DTSTART;TZID=UTC:20251006T090000
DTEND;TZID=UTC:20251012T180000
DTSTAMP:20260422T234036
CREATED:20250926T093124Z
LAST-MODIFIED:20250926T093124Z
UID:7981-1759741200-1760292000@guchil.nadi.my
SUMMARY:DILEA : ENGLISH PROFICIENCY
DESCRIPTION:
URL:https://guchil.nadi.my/event/dilea-english-proficiency/
LOCATION:NADI GUCHIL\, NADI GUCHIL
END:VEVENT
BEGIN:VEVENT
DTSTART;TZID=UTC:20251006T153000
DTEND;TZID=UTC:20251012T163000
DTSTAMP:20260422T234036
CREATED:20250926T092750Z
LAST-MODIFIED:20250926T092750Z
UID:7975-1759764600-1760286600@guchil.nadi.my
SUMMARY:DILEA - OPEN TUITION
DESCRIPTION:
URL:https://guchil.nadi.my/event/dilea-open-tuition/
LOCATION:NADI GUCHIL\, NADI GUCHIL
END:VEVENT
BEGIN:VEVENT
DTSTART;TZID=UTC:20251009T090000
DTEND;TZID=UTC:20251015T180000
DTSTAMP:20260422T234036
CREATED:20251001T015045Z
LAST-MODIFIED:20251001T015045Z
UID:7986-1760000400-1760551200@guchil.nadi.my
SUMMARY:DILEA : REVISION VIDEO 10\, 11
DESCRIPTION:
URL:https://guchil.nadi.my/event/dilea-revision-video-10-11/
LOCATION:NADI GUCHIL\, NADI GUCHIL
END:VEVENT
BEGIN:VEVENT
DTSTART;TZID=UTC:20251010T150000
DTEND;TZID=UTC:20251012T170000
DTSTAMP:20260422T234036
CREATED:20250926T092105Z
LAST-MODIFIED:20250926T092105Z
UID:7969-1760108400-1760288400@guchil.nadi.my
SUMMARY:E-SPORT : AWARNESS CLASSES
DESCRIPTION:
URL:https://guchil.nadi.my/event/e-sport-awarness-classes-2/
LOCATION:NADI GUCHIL\, NADI GUCHIL
END:VEVENT
END:VCALENDAR