BEGIN:VCALENDAR
VERSION:2.0
PRODID:-//NADI Guchil, Kuala Krai - ECPv6.15.13.1//NONSGML v1.0//EN
CALSCALE:GREGORIAN
METHOD:PUBLISH
X-WR-CALNAME:NADI Guchil, Kuala Krai
X-ORIGINAL-URL:https://guchil.nadi.my
X-WR-CALDESC:Events for NADI Guchil, Kuala Krai
REFRESH-INTERVAL;VALUE=DURATION:PT1H
X-Robots-Tag:noindex
X-PUBLISHED-TTL:PT1H
BEGIN:VTIMEZONE
TZID:UTC
BEGIN:STANDARD
TZOFFSETFROM:+0000
TZOFFSETTO:+0000
TZNAME:UTC
DTSTART:20240101T000000
END:STANDARD
END:VTIMEZONE
BEGIN:VEVENT
DTSTART;TZID=UTC:20251016T153000
DTEND;TZID=UTC:20251021T163000
DTSTAMP:20260423T081123
CREATED:20251001T024559Z
LAST-MODIFIED:20251001T024559Z
UID:7992-1760628600-1761064200@guchil.nadi.my
SUMMARY:DILEA - OPEN TUITION
DESCRIPTION:
URL:https://guchil.nadi.my/event/dilea-open-tuition-2/
LOCATION:NADI GUCHIL\, NADI GUCHIL
END:VEVENT
BEGIN:VEVENT
DTSTART;TZID=UTC:20251016T153000
DTEND;TZID=UTC:20251022T163000
DTSTAMP:20260423T081123
CREATED:20251001T024930Z
LAST-MODIFIED:20251001T024930Z
UID:7994-1760628600-1761150600@guchil.nadi.my
SUMMARY:DILEA - REVISION VIDEO 11\, 12
DESCRIPTION:
URL:https://guchil.nadi.my/event/dilea-revision-video-11-12/
LOCATION:NADI GUCHIL\, NADI GUCHIL
END:VEVENT
BEGIN:VEVENT
DTSTART;TZID=UTC:20251017T144500
DTEND;TZID=UTC:20251017T170000
DTSTAMP:20260423T081123
CREATED:20251001T024401Z
LAST-MODIFIED:20251001T024401Z
UID:7988-1760712300-1760720400@guchil.nadi.my
SUMMARY:DILEA - GUIDANCE TUITION (BAHASA MELAYU & BAHASA INGGERIS)
DESCRIPTION:
URL:https://guchil.nadi.my/event/dilea-guidance-tuition-bahasa-melayu-bahasa-inggeris/
LOCATION:NADI GUCHIL\, NADI GUCHIL
END:VEVENT
END:VCALENDAR