BEGIN:VCALENDAR
VERSION:2.0
PRODID:-//NADI Guchil, Kuala Krai - ECPv6.15.20//NONSGML v1.0//EN
CALSCALE:GREGORIAN
METHOD:PUBLISH
X-WR-CALNAME:NADI Guchil, Kuala Krai
X-ORIGINAL-URL:https://guchil.nadi.my
X-WR-CALDESC:Events for NADI Guchil, Kuala Krai
REFRESH-INTERVAL;VALUE=DURATION:PT1H
X-Robots-Tag:noindex
X-PUBLISHED-TTL:PT1H
BEGIN:VTIMEZONE
TZID:UTC
BEGIN:STANDARD
TZOFFSETFROM:+0000
TZOFFSETTO:+0000
TZNAME:UTC
DTSTART:20240101T000000
END:STANDARD
END:VTIMEZONE
BEGIN:VEVENT
DTSTART;TZID=UTC:20251021T090000
DTEND;TZID=UTC:20251026T180000
DTSTAMP:20260424T132428
CREATED:20251001T025943Z
LAST-MODIFIED:20251001T025943Z
UID:7996-1761037200-1761501600@guchil.nadi.my
SUMMARY:DILEA - ENGLISH PROFICIENCY
DESCRIPTION:
URL:https://guchil.nadi.my/event/dilea-english-proficiency-2/
LOCATION:NADI GUCHIL\, NADI GUCHIL
END:VEVENT
BEGIN:VEVENT
DTSTART;TZID=UTC:20251023T090000
DTEND;TZID=UTC:20251029T180000
DTSTAMP:20260424T132428
CREATED:20251001T030252Z
LAST-MODIFIED:20251001T030252Z
UID:8004-1761210000-1761760800@guchil.nadi.my
SUMMARY:DILEA - REVISION VIDEO 12\, 13
DESCRIPTION:
URL:https://guchil.nadi.my/event/dilea-revision-video-12-13/
LOCATION:NADI GUCHIL\, NADI GUCHIL
END:VEVENT
BEGIN:VEVENT
DTSTART;TZID=UTC:20251023T153000
DTEND;TZID=UTC:20251027T163000
DTSTAMP:20260424T132428
CREATED:20251001T030042Z
LAST-MODIFIED:20251001T030042Z
UID:7998-1761233400-1761582600@guchil.nadi.my
SUMMARY:DILEA - OPEN TUITION
DESCRIPTION:
URL:https://guchil.nadi.my/event/dilea-open-tuition-3/
LOCATION:NADI GUCHIL\, NADI GUCHIL
END:VEVENT
BEGIN:VEVENT
DTSTART;TZID=UTC:20251025T100000
DTEND;TZID=UTC:20251025T120000
DTSTAMP:20260424T132428
CREATED:20250926T091853Z
LAST-MODIFIED:20250926T091853Z
UID:7965-1761386400-1761393600@guchil.nadi.my
SUMMARY:COHORT 7 (KIDVENTURE) : WEBINAR PERANCANGAN KEWANGAN
DESCRIPTION:
URL:https://guchil.nadi.my/event/cohort-7-kidventure-webinar-perancangan-kewangan/
LOCATION:NADI GUCHIL\, NADI GUCHIL
END:VEVENT
BEGIN:VEVENT
DTSTART;TZID=UTC:20251025T150000
DTEND;TZID=UTC:20251025T163000
DTSTAMP:20260424T132428
CREATED:20251001T030206Z
LAST-MODIFIED:20251001T030206Z
UID:8002-1761404400-1761409800@guchil.nadi.my
SUMMARY:DILEA - WEBINAR
DESCRIPTION:
URL:https://guchil.nadi.my/event/dilea-webinar-2/
LOCATION:NADI GUCHIL\, NADI GUCHIL
END:VEVENT
BEGIN:VEVENT
DTSTART;TZID=UTC:20251025T150000
DTEND;TZID=UTC:20251025T170000
DTSTAMP:20260424T132428
CREATED:20250926T092138Z
LAST-MODIFIED:20250926T092138Z
UID:7971-1761404400-1761411600@guchil.nadi.my
SUMMARY:E-SPORT : WEBINAR
DESCRIPTION:
URL:https://guchil.nadi.my/event/e-sport-webinar/
LOCATION:NADI GUCHIL\, NADI GUCHIL
END:VEVENT
END:VCALENDAR