BEGIN:VCALENDAR
VERSION:2.0
PRODID:-//NADI Guchil, Kuala Krai - ECPv6.15.13.1//NONSGML v1.0//EN
CALSCALE:GREGORIAN
METHOD:PUBLISH
X-WR-CALNAME:NADI Guchil, Kuala Krai
X-ORIGINAL-URL:https://guchil.nadi.my
X-WR-CALDESC:Events for NADI Guchil, Kuala Krai
REFRESH-INTERVAL;VALUE=DURATION:PT1H
X-Robots-Tag:noindex
X-PUBLISHED-TTL:PT1H
BEGIN:VTIMEZONE
TZID:UTC
BEGIN:STANDARD
TZOFFSETFROM:+0000
TZOFFSETTO:+0000
TZNAME:UTC
DTSTART:20240101T000000
END:STANDARD
END:VTIMEZONE
BEGIN:VEVENT
DTSTART;TZID=UTC:20251023T090000
DTEND;TZID=UTC:20251029T180000
DTSTAMP:20260423T081123
CREATED:20251001T030252Z
LAST-MODIFIED:20251001T030252Z
UID:8004-1761210000-1761760800@guchil.nadi.my
SUMMARY:DILEA - REVISION VIDEO 12\, 13
DESCRIPTION:
URL:https://guchil.nadi.my/event/dilea-revision-video-12-13/
LOCATION:NADI GUCHIL\, NADI GUCHIL
END:VEVENT
BEGIN:VEVENT
DTSTART;TZID=UTC:20251028T100000
DTEND;TZID=UTC:20251028T120000
DTSTAMP:20260423T081123
CREATED:20250926T091211Z
LAST-MODIFIED:20250926T091330Z
UID:7951-1761645600-1761652800@guchil.nadi.my
SUMMARY:COHORT 6 (USAHAWAN) : PENDAFTARAN & TONTONAN VIDEO PRA-LATIHAN
DESCRIPTION:
URL:https://guchil.nadi.my/event/cohort-6-pendaftaran-tontonan-video-pra-latihan/
LOCATION:NADI GUCHIL\, NADI GUCHIL
END:VEVENT
BEGIN:VEVENT
DTSTART;TZID=UTC:20251028T150000
DTEND;TZID=UTC:20251028T170000
DTSTAMP:20260423T081123
CREATED:20250926T091012Z
LAST-MODIFIED:20250926T091349Z
UID:7949-1761663600-1761670800@guchil.nadi.my
SUMMARY:COHORT 5 (USAHAWAN) - PODCAST : TEKNOLOGI DALAM DUNIA USAHAWAN
DESCRIPTION:
URL:https://guchil.nadi.my/event/cohort-5-podcast-teknologi-dalam-dunia-usahawan/
LOCATION:NADI GUCHIL\, NADI GUCHIL
END:VEVENT
END:VCALENDAR