BEGIN:VCALENDAR
VERSION:2.0
PRODID:-//NADI Guchil, Kuala Krai - ECPv6.15.13.1//NONSGML v1.0//EN
CALSCALE:GREGORIAN
METHOD:PUBLISH
X-WR-CALNAME:NADI Guchil, Kuala Krai
X-ORIGINAL-URL:https://guchil.nadi.my
X-WR-CALDESC:Events for NADI Guchil, Kuala Krai
REFRESH-INTERVAL;VALUE=DURATION:PT1H
X-Robots-Tag:noindex
X-PUBLISHED-TTL:PT1H
BEGIN:VTIMEZONE
TZID:UTC
BEGIN:STANDARD
TZOFFSETFROM:+0000
TZOFFSETTO:+0000
TZNAME:UTC
DTSTART:20240101T000000
END:STANDARD
END:VTIMEZONE
BEGIN:VEVENT
DTSTART;TZID=UTC:20251101T090000
DTEND;TZID=UTC:20251101T130000
DTSTAMP:20260422T150415
CREATED:20251028T043242Z
LAST-MODIFIED:20251028T043242Z
UID:8572-1761987600-1762002000@guchil.nadi.my
SUMMARY:E-SPORT - STATE LEVEL TOURNAMENT (GROUP STAGE)
DESCRIPTION:
URL:https://guchil.nadi.my/event/e-sport-state-level-tournament-group-stage/
LOCATION:NADI GUCHIL\, NADI GUCHIL
END:VEVENT
BEGIN:VEVENT
DTSTART;TZID=UTC:20251101T090000
DTEND;TZID=UTC:20251102T180000
DTSTAMP:20260422T150415
CREATED:20251028T043349Z
LAST-MODIFIED:20251028T043349Z
UID:8574-1761987600-1762106400@guchil.nadi.my
SUMMARY:DILEA - VOD - REVISION VIDEO 14
DESCRIPTION:
URL:https://guchil.nadi.my/event/dilea-vod-revision-video-14/
LOCATION:NADI GUCHIL\, NADI GUCHIL
END:VEVENT
BEGIN:VEVENT
DTSTART;TZID=UTC:20251101T100000
DTEND;TZID=UTC:20251102T120000
DTSTAMP:20260422T150415
CREATED:20251028T043131Z
LAST-MODIFIED:20251028T043131Z
UID:8570-1761991200-1762084800@guchil.nadi.my
SUMMARY:KIDVENTURE - EDISI EKSPRES
DESCRIPTION:
URL:https://guchil.nadi.my/event/kidventure-edisi-ekspres/
LOCATION:NADI GUCHIL\, NADI GUCHIL
END:VEVENT
END:VCALENDAR