BEGIN:VCALENDAR
VERSION:2.0
PRODID:-//NADI Guchil, Kuala Krai - ECPv6.15.13.1//NONSGML v1.0//EN
CALSCALE:GREGORIAN
METHOD:PUBLISH
X-WR-CALNAME:NADI Guchil, Kuala Krai
X-ORIGINAL-URL:https://guchil.nadi.my
X-WR-CALDESC:Events for NADI Guchil, Kuala Krai
REFRESH-INTERVAL;VALUE=DURATION:PT1H
X-Robots-Tag:noindex
X-PUBLISHED-TTL:PT1H
BEGIN:VTIMEZONE
TZID:UTC
BEGIN:STANDARD
TZOFFSETFROM:+0000
TZOFFSETTO:+0000
TZNAME:UTC
DTSTART:20240101T000000
END:STANDARD
END:VTIMEZONE
BEGIN:VEVENT
DTSTART;TZID=UTC:20251103T090000
DTEND;TZID=UTC:20251109T180000
DTSTAMP:20260423T081120
CREATED:20251028T045530Z
LAST-MODIFIED:20251028T045530Z
UID:8591-1762160400-1762711200@guchil.nadi.my
SUMMARY:DILEA - VOD : REVISION VIDEO 14
DESCRIPTION:
URL:https://guchil.nadi.my/event/dilea-vod-revision-video-14-2/
LOCATION:NADI GUCHIL\, NADI GUCHIL
END:VEVENT
BEGIN:VEVENT
DTSTART;TZID=UTC:20251103T100000
DTEND;TZID=UTC:20251107T120000
DTSTAMP:20260423T081120
CREATED:20251028T044634Z
LAST-MODIFIED:20251028T044634Z
UID:8578-1762164000-1762516800@guchil.nadi.my
SUMMARY:KIDVENTURE - EDISI EKSPRES
DESCRIPTION:
URL:https://guchil.nadi.my/event/kidventure-edisi-ekspres-2/
LOCATION:NADI GUCHIL\, NADI GUCHIL
END:VEVENT
BEGIN:VEVENT
DTSTART;TZID=UTC:20251103T100000
DTEND;TZID=UTC:20251107T160000
DTSTAMP:20260423T081120
CREATED:20251028T044445Z
LAST-MODIFIED:20251028T044445Z
UID:8576-1762164000-1762531200@guchil.nadi.my
SUMMARY:USAHAWAN - EDISI EKPRES NADIPRENEUR & EMPOWHER
DESCRIPTION:
URL:https://guchil.nadi.my/event/usahawan-edisi-ekpres-nadipreneur-empowher/
LOCATION:NADI GUCHIL\, NADI GUCHIL
END:VEVENT
BEGIN:VEVENT
DTSTART;TZID=UTC:20251103T150000
DTEND;TZID=UTC:20251109T170000
DTSTAMP:20260423T081120
CREATED:20251028T045309Z
LAST-MODIFIED:20251028T045309Z
UID:8586-1762182000-1762707600@guchil.nadi.my
SUMMARY:DILEA - EP LESSON 18
DESCRIPTION:
URL:https://guchil.nadi.my/event/dilea-ep-lesson-18/
LOCATION:NADI GUCHIL\, NADI GUCHIL
END:VEVENT
BEGIN:VEVENT
DTSTART;TZID=UTC:20251103T153000
DTEND;TZID=UTC:20251106T163000
DTSTAMP:20260423T081120
CREATED:20251028T045053Z
LAST-MODIFIED:20251028T045053Z
UID:8584-1762183800-1762446600@guchil.nadi.my
SUMMARY:DILEA - OPEN TUITION (TINGKATAN 1-5)
DESCRIPTION:
URL:https://guchil.nadi.my/event/dilea-open-tuition-tingkatan-1-5/
LOCATION:NADI GUCHIL\, NADI GUCHIL
END:VEVENT
BEGIN:VEVENT
DTSTART;TZID=UTC:20251106T150000
DTEND;TZID=UTC:20251106T163000
DTSTAMP:20260423T081120
CREATED:20251028T045922Z
LAST-MODIFIED:20251028T045922Z
UID:8599-1762441200-1762446600@guchil.nadi.my
SUMMARY:CYBERSECURITY - WEBINAR
DESCRIPTION:
URL:https://guchil.nadi.my/event/cybersecurity-webinar-3/
LOCATION:NADI GUCHIL\, NADI GUCHIL
END:VEVENT
END:VCALENDAR