BEGIN:VCALENDAR
VERSION:2.0
PRODID:-//NADI Guchil, Kuala Krai - ECPv6.15.13.1//NONSGML v1.0//EN
CALSCALE:GREGORIAN
METHOD:PUBLISH
X-WR-CALNAME:NADI Guchil, Kuala Krai
X-ORIGINAL-URL:https://guchil.nadi.my
X-WR-CALDESC:Events for NADI Guchil, Kuala Krai
REFRESH-INTERVAL;VALUE=DURATION:PT1H
X-Robots-Tag:noindex
X-PUBLISHED-TTL:PT1H
BEGIN:VTIMEZONE
TZID:UTC
BEGIN:STANDARD
TZOFFSETFROM:+0000
TZOFFSETTO:+0000
TZNAME:UTC
DTSTART:20240101T000000
END:STANDARD
END:VTIMEZONE
BEGIN:VEVENT
DTSTART;TZID=UTC:20251103T090000
DTEND;TZID=UTC:20251109T180000
DTSTAMP:20260422T220527
CREATED:20251028T045530Z
LAST-MODIFIED:20251028T045530Z
UID:8591-1762160400-1762711200@guchil.nadi.my
SUMMARY:DILEA - VOD : REVISION VIDEO 14
DESCRIPTION:
URL:https://guchil.nadi.my/event/dilea-vod-revision-video-14-2/
LOCATION:NADI GUCHIL\, NADI GUCHIL
END:VEVENT
BEGIN:VEVENT
DTSTART;TZID=UTC:20251103T150000
DTEND;TZID=UTC:20251109T170000
DTSTAMP:20260422T220527
CREATED:20251028T045309Z
LAST-MODIFIED:20251028T045309Z
UID:8586-1762182000-1762707600@guchil.nadi.my
SUMMARY:DILEA - EP LESSON 18
DESCRIPTION:
URL:https://guchil.nadi.my/event/dilea-ep-lesson-18/
LOCATION:NADI GUCHIL\, NADI GUCHIL
END:VEVENT
BEGIN:VEVENT
DTSTART;TZID=UTC:20251107T150000
DTEND;TZID=UTC:20251109T170000
DTSTAMP:20260422T220527
CREATED:20251028T044820Z
LAST-MODIFIED:20251028T044820Z
UID:8580-1762527600-1762707600@guchil.nadi.my
SUMMARY:E-SPORT - AWARENESS CLASS
DESCRIPTION:
URL:https://guchil.nadi.my/event/e-sport-awareness-class/
LOCATION:NADI GUCHIL\, NADI GUCHIL
END:VEVENT
END:VCALENDAR