BEGIN:VCALENDAR
VERSION:2.0
PRODID:-//NADI Guchil, Kuala Krai - ECPv6.15.13.1//NONSGML v1.0//EN
CALSCALE:GREGORIAN
METHOD:PUBLISH
X-WR-CALNAME:NADI Guchil, Kuala Krai
X-ORIGINAL-URL:https://guchil.nadi.my
X-WR-CALDESC:Events for NADI Guchil, Kuala Krai
REFRESH-INTERVAL;VALUE=DURATION:PT1H
X-Robots-Tag:noindex
X-PUBLISHED-TTL:PT1H
BEGIN:VTIMEZONE
TZID:UTC
BEGIN:STANDARD
TZOFFSETFROM:+0000
TZOFFSETTO:+0000
TZNAME:UTC
DTSTART:20240101T000000
END:STANDARD
END:VTIMEZONE
BEGIN:VEVENT
DTSTART;TZID=UTC:20251110T100000
DTEND;TZID=UTC:20251116T170000
DTSTAMP:20260423T063041
CREATED:20251028T050908Z
LAST-MODIFIED:20251028T050908Z
UID:8615-1762768800-1763312400@guchil.nadi.my
SUMMARY:DILEA - VOD : REVISION VIDEO 15
DESCRIPTION:
URL:https://guchil.nadi.my/event/dilea-vod-revision-video-15/
LOCATION:NADI GUCHIL\, NADI GUCHIL
END:VEVENT
BEGIN:VEVENT
DTSTART;TZID=UTC:20251110T150000
DTEND;TZID=UTC:20251116T163000
DTSTAMP:20260423T063041
CREATED:20251028T050742Z
LAST-MODIFIED:20251028T050742Z
UID:8611-1762786800-1763310600@guchil.nadi.my
SUMMARY:DILEA - GUIDANCE TUITION (TINGKATAN 4 & 5)
DESCRIPTION:
URL:https://guchil.nadi.my/event/dilea-guidance-tuition-tingkatan-4-5/
LOCATION:NADI GUCHIL\, NADI GUCHIL
END:VEVENT
BEGIN:VEVENT
DTSTART;TZID=UTC:20251110T153000
DTEND;TZID=UTC:20251113T163000
DTSTAMP:20260423T063041
CREATED:20251028T050825Z
LAST-MODIFIED:20251028T050825Z
UID:8613-1762788600-1763051400@guchil.nadi.my
SUMMARY:DILEA - OPEN TUITION (TINGKATAN 1-5)
DESCRIPTION:
URL:https://guchil.nadi.my/event/dilea-open-tuition-tingkatan-1-5-2/
LOCATION:NADI GUCHIL\, NADI GUCHIL
END:VEVENT
END:VCALENDAR