BEGIN:VCALENDAR
VERSION:2.0
PRODID:-//NADI Guchil, Kuala Krai - ECPv6.15.20//NONSGML v1.0//EN
CALSCALE:GREGORIAN
METHOD:PUBLISH
X-WR-CALNAME:NADI Guchil, Kuala Krai
X-ORIGINAL-URL:https://guchil.nadi.my
X-WR-CALDESC:Events for NADI Guchil, Kuala Krai
REFRESH-INTERVAL;VALUE=DURATION:PT1H
X-Robots-Tag:noindex
X-PUBLISHED-TTL:PT1H
BEGIN:VTIMEZONE
TZID:UTC
BEGIN:STANDARD
TZOFFSETFROM:+0000
TZOFFSETTO:+0000
TZNAME:UTC
DTSTART:20240101T000000
END:STANDARD
END:VTIMEZONE
BEGIN:VEVENT
DTSTART;TZID=UTC:20251110T100000
DTEND;TZID=UTC:20251116T170000
DTSTAMP:20260423T205134
CREATED:20251028T050908Z
LAST-MODIFIED:20251028T050908Z
UID:8615-1762768800-1763312400@guchil.nadi.my
SUMMARY:DILEA - VOD : REVISION VIDEO 15
DESCRIPTION:
URL:https://guchil.nadi.my/event/dilea-vod-revision-video-15/
LOCATION:NADI GUCHIL\, NADI GUCHIL
END:VEVENT
BEGIN:VEVENT
DTSTART;TZID=UTC:20251110T150000
DTEND;TZID=UTC:20251116T163000
DTSTAMP:20260423T205134
CREATED:20251028T050742Z
LAST-MODIFIED:20251028T050742Z
UID:8611-1762786800-1763310600@guchil.nadi.my
SUMMARY:DILEA - GUIDANCE TUITION (TINGKATAN 4 & 5)
DESCRIPTION:
URL:https://guchil.nadi.my/event/dilea-guidance-tuition-tingkatan-4-5/
LOCATION:NADI GUCHIL\, NADI GUCHIL
END:VEVENT
BEGIN:VEVENT
DTSTART;TZID=UTC:20251114T100000
DTEND;TZID=UTC:20251116T170000
DTSTAMP:20260423T205134
CREATED:20251028T050537Z
LAST-MODIFIED:20251028T050537Z
UID:8607-1763114400-1763312400@guchil.nadi.my
SUMMARY:E-SPORT - KELAS KESEDARAN
DESCRIPTION:
URL:https://guchil.nadi.my/event/e-sport-kelas-kesedaran/
LOCATION:NADI GUCHIL\, NADI GUCHIL
END:VEVENT
BEGIN:VEVENT
DTSTART;TZID=UTC:20251116T100000
DTEND;TZID=UTC:20251122T170000
DTSTAMP:20260423T205134
CREATED:20251028T090307Z
LAST-MODIFIED:20251028T090307Z
UID:8662-1763287200-1763830800@guchil.nadi.my
SUMMARY:KEMPEN INTERNET SELAMAT (KIS) - LAMAN WEB MERBAHAYA (12 TAHUN KE BAWAH)
DESCRIPTION:
URL:https://guchil.nadi.my/event/kempen-internet-selamat-kis-laman-web-merbahaya-12-tahun-ke-bawah/
LOCATION:NADI GUCHIL\, NADI GUCHIL
END:VEVENT
BEGIN:VEVENT
DTSTART;TZID=UTC:20251116T100000
DTEND;TZID=UTC:20251122T170000
DTSTAMP:20260423T205134
CREATED:20251028T090354Z
LAST-MODIFIED:20251028T090354Z
UID:8664-1763287200-1763830800@guchil.nadi.my
SUMMARY:KEMPEN INTERNET SELAMAT (KIS) - PENYANTUNAN SIBER (13 TAHUN KE ATAS)
DESCRIPTION:
URL:https://guchil.nadi.my/event/kempen-internet-selamat-kis-penyantunan-siber-13-tahun-ke-atas/
LOCATION:NADI GUCHIL\, NADI GUCHIL
END:VEVENT
END:VCALENDAR