BEGIN:VCALENDAR
VERSION:2.0
PRODID:-//NADI Guchil, Kuala Krai - ECPv6.15.20//NONSGML v1.0//EN
CALSCALE:GREGORIAN
METHOD:PUBLISH
X-WR-CALNAME:NADI Guchil, Kuala Krai
X-ORIGINAL-URL:https://guchil.nadi.my
X-WR-CALDESC:Events for NADI Guchil, Kuala Krai
REFRESH-INTERVAL;VALUE=DURATION:PT1H
X-Robots-Tag:noindex
X-PUBLISHED-TTL:PT1H
BEGIN:VTIMEZONE
TZID:UTC
BEGIN:STANDARD
TZOFFSETFROM:+0000
TZOFFSETTO:+0000
TZNAME:UTC
DTSTART:20240101T000000
END:STANDARD
END:VTIMEZONE
BEGIN:VEVENT
DTSTART;TZID=UTC:20251117T100000
DTEND;TZID=UTC:20251123T170000
DTSTAMP:20260423T205129
CREATED:20251028T083136Z
LAST-MODIFIED:20251028T083136Z
UID:8642-1763373600-1763917200@guchil.nadi.my
SUMMARY:DILEA - VOD : REVISION VIDEO 16
DESCRIPTION:
URL:https://guchil.nadi.my/event/dilea-vod-revision-video-16/
LOCATION:NADI GUCHIL\, NADI GUCHIL
END:VEVENT
BEGIN:VEVENT
DTSTART;TZID=UTC:20251117T150000
DTEND;TZID=UTC:20251123T163000
DTSTAMP:20260423T205129
CREATED:20251028T083046Z
LAST-MODIFIED:20251028T083046Z
UID:8640-1763391600-1763915400@guchil.nadi.my
SUMMARY:DILEA - EP LESSON 19
DESCRIPTION:
URL:https://guchil.nadi.my/event/dilea-ep-lesson-19/
LOCATION:NADI GUCHIL\, NADI GUCHIL
END:VEVENT
BEGIN:VEVENT
DTSTART;TZID=UTC:20251121T100000
DTEND;TZID=UTC:20251123T120000
DTSTAMP:20260423T205129
CREATED:20251028T060746Z
LAST-MODIFIED:20251028T060746Z
UID:8631-1763719200-1763899200@guchil.nadi.my
SUMMARY:E-SPORT : KELAS KESEDARAN
DESCRIPTION:
URL:https://guchil.nadi.my/event/e-sport-kelas-kesedaran-2/
LOCATION:NADI GUCHIL\, NADI GUCHIL
END:VEVENT
END:VCALENDAR