BEGIN:VCALENDAR
VERSION:2.0
PRODID:-//NADI Guchil, Kuala Krai - ECPv6.15.13.1//NONSGML v1.0//EN
CALSCALE:GREGORIAN
METHOD:PUBLISH
X-WR-CALNAME:NADI Guchil, Kuala Krai
X-ORIGINAL-URL:https://guchil.nadi.my
X-WR-CALDESC:Events for NADI Guchil, Kuala Krai
REFRESH-INTERVAL;VALUE=DURATION:PT1H
X-Robots-Tag:noindex
X-PUBLISHED-TTL:PT1H
BEGIN:VTIMEZONE
TZID:UTC
BEGIN:STANDARD
TZOFFSETFROM:+0000
TZOFFSETTO:+0000
TZNAME:UTC
DTSTART:20240101T000000
END:STANDARD
END:VTIMEZONE
BEGIN:VEVENT
DTSTART;TZID=UTC:20260307T090000
DTEND;TZID=UTC:20260316T170000
DTSTAMP:20260422T144224
CREATED:20260227T035505Z
LAST-MODIFIED:20260227T035505Z
UID:10183-1772874000-1773680400@guchil.nadi.my
SUMMARY:KELAS KIDVENTURE 2026 - USAHAWAN CILIK
DESCRIPTION:
URL:https://guchil.nadi.my/event/kelas-kidventure-2026-usahawan-cilik/
LOCATION:NADI GUCHIL\, NADI GUCHIL
END:VEVENT
BEGIN:VEVENT
DTSTART;TZID=UTC:20260303T090000
DTEND;TZID=UTC:20260331T170000
DTSTAMP:20260422T144224
CREATED:20260227T035406Z
LAST-MODIFIED:20260227T035406Z
UID:10181-1772528400-1774976400@guchil.nadi.my
SUMMARY:KELAS MAHIR - MAHIR MASAK\, MAHIR JAHIT\, MAHIR GAJET\, MAHIR FOTO & MAHIR PERTANIAN PINTAR
DESCRIPTION:
URL:https://guchil.nadi.my/event/kelas-mahir-mahir-masak-mahir-jahit-mahir-gajet-mahir-foto-mahir-pertanian-pintar/
LOCATION:NADI GUCHIL\, NADI GUCHIL
END:VEVENT
BEGIN:VEVENT
DTSTART;TZID=UTC:20260301T090000
DTEND;TZID=UTC:20260331T170000
DTSTAMP:20260422T144224
CREATED:20260227T035708Z
LAST-MODIFIED:20260227T035708Z
UID:10187-1772355600-1774976400@guchil.nadi.my
SUMMARY:FLOURISHER\, MENWELL & CARE
DESCRIPTION:
URL:https://guchil.nadi.my/event/flourisher-menwell-care/
LOCATION:NADI GUCHIL\, NADI GUCHIL
END:VEVENT
BEGIN:VEVENT
DTSTART;TZID=UTC:20260301T090000
DTEND;TZID=UTC:20260331T170000
DTSTAMP:20260422T144224
CREATED:20260227T035617Z
LAST-MODIFIED:20260227T035617Z
UID:10185-1772355600-1774976400@guchil.nadi.my
SUMMARY:KELAS ESPORT\, TINY TECHIES\, CYBERSECURITY\, EKELAS & KEMPEN INTERNET SELAMAT
DESCRIPTION:
URL:https://guchil.nadi.my/event/kelas-esport-tiny-techies-cybersecurity-ekelas-kempen-internet-selamat/
LOCATION:NADI GUCHIL\, NADI GUCHIL
END:VEVENT
BEGIN:VEVENT
DTSTART;TZID=UTC:20260301T090000
DTEND;TZID=UTC:20260331T170000
DTSTAMP:20260422T144224
CREATED:20260227T031225Z
LAST-MODIFIED:20260227T031225Z
UID:10177-1772355600-1774976400@guchil.nadi.my
SUMMARY:KELAS KEUSAHAWANAN 2026 - PRENEUR & EMPOWHER
DESCRIPTION:
URL:https://guchil.nadi.my/event/kelas-keusahawanan-2026-preneur-empowher/
LOCATION:NADI GUCHIL\, NADI GUCHIL
END:VEVENT
BEGIN:VEVENT
DTSTART;TZID=UTC:20260301T090000
DTEND;TZID=UTC:20260326T170000
DTSTAMP:20260422T144224
CREATED:20260227T031402Z
LAST-MODIFIED:20260227T031402Z
UID:10179-1772355600-1774544400@guchil.nadi.my
SUMMARY:KELAS GUIDANCE TUITION & OPEN TUITION
DESCRIPTION:
URL:https://guchil.nadi.my/event/kelas-guidance-tuition-open-tuition/
LOCATION:NADI GUCHIL\, NADI GUCHIL
END:VEVENT
BEGIN:VEVENT
DTSTART;TZID=UTC:20260207T080000
DTEND;TZID=UTC:20260228T170000
DTSTAMP:20260422T144224
CREATED:20260207T065703Z
LAST-MODIFIED:20260207T065703Z
UID:9878-1770451200-1772298000@guchil.nadi.my
SUMMARY:KIDVENTURE 2026 - USAHAWAN CILIK
DESCRIPTION:
URL:https://guchil.nadi.my/event/kidventure-2026-usahawan-cilik/
LOCATION:NADI GUCHIL\, NADI GUCHIL
END:VEVENT
BEGIN:VEVENT
DTSTART;TZID=UTC:20260207T080000
DTEND;TZID=UTC:20260227T170000
DTSTAMP:20260422T144224
CREATED:20260207T065430Z
LAST-MODIFIED:20260207T065430Z
UID:9874-1770451200-1772211600@guchil.nadi.my
SUMMARY:MAHIR MASAK || MAHIR JAHIT || MAHIR GAJET || MAHIR FOTO || MAHIR PERTANIAN PINTAR
DESCRIPTION:
URL:https://guchil.nadi.my/event/mahir-masak-mahir-jahit-mahir-gajet-mahir-foto-mahir-pertanian-pintar/
LOCATION:NADI GUCHIL\, NADI GUCHIL
END:VEVENT
BEGIN:VEVENT
DTSTART;TZID=UTC:20260206T080000
DTEND;TZID=UTC:20260226T170000
DTSTAMP:20260422T144224
CREATED:20260207T065605Z
LAST-MODIFIED:20260207T065605Z
UID:9876-1770364800-1772125200@guchil.nadi.my
SUMMARY:GUIDANCE TUITION & OPEN TUITION
DESCRIPTION:
URL:https://guchil.nadi.my/event/guidance-tuition-open-tuition/
LOCATION:NADI GUCHIL\, NADI GUCHIL
END:VEVENT
BEGIN:VEVENT
DTSTART;TZID=UTC:20260201T080000
DTEND;TZID=UTC:20260228T170000
DTSTAMP:20260422T144224
CREATED:20260207T065304Z
LAST-MODIFIED:20260207T065304Z
UID:9872-1769932800-1772298000@guchil.nadi.my
SUMMARY:FLUORISHER || MENWELL & CARE
DESCRIPTION:
URL:https://guchil.nadi.my/event/fluorisher-menwell-care/
LOCATION:NADI GUCHIL\, NADI GUCHIL
END:VEVENT
BEGIN:VEVENT
DTSTART;TZID=UTC:20260201T080000
DTEND;TZID=UTC:20260228T170000
DTSTAMP:20260422T144224
CREATED:20260207T065154Z
LAST-MODIFIED:20260207T065154Z
UID:9870-1769932800-1772298000@guchil.nadi.my
SUMMARY:ESPORT || TINY TECHIES || CYBERSECURITY || EKELAS || KEMPEN INTERNET SELAMAT
DESCRIPTION:
URL:https://guchil.nadi.my/event/esport-tiny-techies-cybersecurity-ekelas-kempen-internet-selamat/
LOCATION:NADI GUCHIL\, NADI GUCHIL
END:VEVENT
BEGIN:VEVENT
DTSTART;TZID=UTC:20260201T080000
DTEND;TZID=UTC:20260228T170000
DTSTAMP:20260422T144224
CREATED:20260207T064823Z
LAST-MODIFIED:20260207T064823Z
UID:9868-1769932800-1772298000@guchil.nadi.my
SUMMARY:KEUSAHAWANAN 2026 - PRENEUR & EMPOWHER
DESCRIPTION:
URL:https://guchil.nadi.my/event/keusahawanan-2026-preneur-empowher/
LOCATION:NADI GUCHIL\, NADI GUCHIL
END:VEVENT
BEGIN:VEVENT
DTSTART;TZID=UTC:20260111T090000
DTEND;TZID=UTC:20260111T180000
DTSTAMP:20260422T144224
CREATED:20260110T030224Z
LAST-MODIFIED:20260110T030224Z
UID:9427-1768122000-1768154400@guchil.nadi.my
SUMMARY:DILEA: GUIDANCE TUITION BM\, BI TING 5 || VOD REVISION VIDEO 23 || EP LESSON 22
DESCRIPTION:
URL:https://guchil.nadi.my/event/dilea-guidance-tuition-bm-bi-ting-5-vod-revision-video-23-ep-lesson-22/
LOCATION:NADI GUCHIL\, NADI GUCHIL
END:VEVENT
BEGIN:VEVENT
DTSTART;TZID=UTC:20260111T090000
DTEND;TZID=UTC:20260111T180000
DTSTAMP:20260422T144224
CREATED:20260110T030059Z
LAST-MODIFIED:20260110T030059Z
UID:9425-1768122000-1768154400@guchil.nadi.my
SUMMARY:E-SPORT: AWARENESS CLASS
DESCRIPTION:
URL:https://guchil.nadi.my/event/e-sport-awareness-class-2/
LOCATION:NADI GUCHIL\, NADI GUCHIL
END:VEVENT
BEGIN:VEVENT
DTSTART;TZID=UTC:20260110T090000
DTEND;TZID=UTC:20260110T180000
DTSTAMP:20260422T144224
CREATED:20260110T030013Z
LAST-MODIFIED:20260110T030013Z
UID:9423-1768035600-1768068000@guchil.nadi.my
SUMMARY:KIDVENTURE WEBINAR: BUSINESS IDEA & MINI BUSINESS PLAN 1
DESCRIPTION:
URL:https://guchil.nadi.my/event/kidventure-webinar-business-idea-mini-business-plan-1/
LOCATION:NADI GUCHIL\, NADI GUCHIL
END:VEVENT
BEGIN:VEVENT
DTSTART;TZID=UTC:20260110T090000
DTEND;TZID=UTC:20260110T180000
DTSTAMP:20260422T144224
CREATED:20260110T025911Z
LAST-MODIFIED:20260110T025911Z
UID:9421-1768035600-1768068000@guchil.nadi.my
SUMMARY:MAHIR: FORUM MAHIR BERSAMA KOMUNITI
DESCRIPTION:
URL:https://guchil.nadi.my/event/mahir-forum-mahir-bersama-komuniti/
LOCATION:NADI GUCHIL\, NADI GUCHIL
END:VEVENT
BEGIN:VEVENT
DTSTART;TZID=UTC:20260110T090000
DTEND;TZID=UTC:20260110T180000
DTSTAMP:20260422T144224
CREATED:20260110T025725Z
LAST-MODIFIED:20260110T025725Z
UID:9419-1768035600-1768068000@guchil.nadi.my
SUMMARY:WELLBEING PHY-WELL: TEAM DANCE
DESCRIPTION:
URL:https://guchil.nadi.my/event/wellbeing-phy-well-team-dance/
LOCATION:NADI GUCHIL\, NADI GUCHIL
END:VEVENT
BEGIN:VEVENT
DTSTART;TZID=UTC:20260110T090000
DTEND;TZID=UTC:20260110T180000
DTSTAMP:20260422T144224
CREATED:20260110T025442Z
LAST-MODIFIED:20260110T025442Z
UID:9417-1768035600-1768068000@guchil.nadi.my
SUMMARY:DILEA GUIDANCE TUITION: SEJ\, MT TINGKATAN 5 || WEBINAR BERKALA SNS MEN BAWAH EDISI 2 || VOD REVISION VIDEO 23 || EP LESSON 22
DESCRIPTION:
URL:https://guchil.nadi.my/event/dilea-guidance-tuition-sej-mt-tingkatan-5-webinar-berkala-sns-men-bawah-edisi-2-vod-revision-video-23-ep-lesson-22/
LOCATION:NADI GUCHIL\, NADI GUCHIL
END:VEVENT
BEGIN:VEVENT
DTSTART;TZID=UTC:20251215T090000
DTEND;TZID=UTC:20251221T180000
DTSTAMP:20260422T144224
CREATED:20251219T033812Z
LAST-MODIFIED:20251219T033812Z
UID:9190-1765789200-1766340000@guchil.nadi.my
SUMMARY:AWARENESS : TAKLIMAT PERISIAN MERBAHAYA
DESCRIPTION:
URL:https://guchil.nadi.my/event/awareness-taklimat-perisian-merbahaya/
END:VEVENT
BEGIN:VEVENT
DTSTART;TZID=UTC:20251206T080000
DTEND;TZID=UTC:20251206T170000
DTSTAMP:20260422T144224
CREATED:20251202T101138Z
LAST-MODIFIED:20251202T101138Z
UID:9045-1765008000-1765040400@guchil.nadi.my
SUMMARY:DILEA TUISYEN RAKYAT- WEBINAR BERKALA
DESCRIPTION:
URL:https://guchil.nadi.my/event/dilea-tuisyen-rakyat-webinar-berkala/
LOCATION:NADI GUCHIL\, NADI GUCHIL
END:VEVENT
BEGIN:VEVENT
DTSTART;TZID=UTC:20251205T080000
DTEND;TZID=UTC:20251207T170000
DTSTAMP:20260422T144224
CREATED:20251202T094616Z
LAST-MODIFIED:20251202T094616Z
UID:9035-1764921600-1765126800@guchil.nadi.my
SUMMARY:E-SPORTS- AWARENESS CLASS : ANTI BULI & ETIKA KOMUNITI
DESCRIPTION:
URL:https://guchil.nadi.my/event/e-sports-awareness-class-anti-buli-etika-komuniti/
LOCATION:NADI GUCHIL\, NADI GUCHIL
END:VEVENT
BEGIN:VEVENT
DTSTART;TZID=UTC:20251201T080000
DTEND;TZID=UTC:20251207T170000
DTSTAMP:20260422T144224
CREATED:20251202T101016Z
LAST-MODIFIED:20251202T101016Z
UID:9043-1764576000-1765126800@guchil.nadi.my
SUMMARY:DILEA TUISYEN RAKYAT- VOD-REVISION VIDEO 18
DESCRIPTION:
URL:https://guchil.nadi.my/event/dilea-tuisyen-rakyat-vod-revision-video-18/
LOCATION:NADI GUCHIL\, NADI GUCHIL
END:VEVENT
BEGIN:VEVENT
DTSTART;TZID=UTC:20251201T080000
DTEND;TZID=UTC:20251207T170000
DTSTAMP:20260422T144224
CREATED:20251202T095958Z
LAST-MODIFIED:20251202T095958Z
UID:9041-1764576000-1765126800@guchil.nadi.my
SUMMARY:DILEA TUISYEN RAKYAT- EP LESSON 20
DESCRIPTION:
URL:https://guchil.nadi.my/event/dilea-tuisyen-rakyat-ep-lesson-20/
LOCATION:NADI GUCHIL\, NADI GUCHIL
END:VEVENT
BEGIN:VEVENT
DTSTART;TZID=UTC:20251201T080000
DTEND;TZID=UTC:20251207T170000
DTSTAMP:20260422T144224
CREATED:20251202T093930Z
LAST-MODIFIED:20251202T093930Z
UID:9033-1764576000-1765126800@guchil.nadi.my
SUMMARY:KIDVENTURE- COHORT 8 : WEBINAR PELAN PERNIAGAAN PERTAMA SAYA
DESCRIPTION:
URL:https://guchil.nadi.my/event/kidventure-cohort-8-webinar-pelan-perniagaan-pertama-saya/
LOCATION:NADI GUCHIL\, NADI GUCHIL
END:VEVENT
BEGIN:VEVENT
DTSTART;TZID=UTC:20251201T080000
DTEND;TZID=UTC:20251205T170000
DTSTAMP:20260422T144224
CREATED:20251202T095455Z
LAST-MODIFIED:20251202T095455Z
UID:9039-1764576000-1764954000@guchil.nadi.my
SUMMARY:DILEA TUISYEN RAKYAT- GUIDANCE TUITION TINGKATAN 4
DESCRIPTION:
URL:https://guchil.nadi.my/event/dilea-tuisyen-rakyat-guidance-tuition-tingkatan-4/
LOCATION:NADI GUCHIL\, NADI GUCHIL
END:VEVENT
BEGIN:VEVENT
DTSTART;TZID=UTC:20251201T080000
DTEND;TZID=UTC:20251204T170000
DTSTAMP:20260422T144224
CREATED:20251202T095226Z
LAST-MODIFIED:20251202T095226Z
UID:9037-1764576000-1764867600@guchil.nadi.my
SUMMARY:DILEA TUISYEN RAKYAT- OPEN TUITION
DESCRIPTION:
URL:https://guchil.nadi.my/event/dilea-tuisyen-rakyat-open-tuition/
LOCATION:NADI GUCHIL\, NADI GUCHIL
END:VEVENT
BEGIN:VEVENT
DTSTART;TZID=UTC:20251129T150000
DTEND;TZID=UTC:20251129T163000
DTSTAMP:20260422T144224
CREATED:20251028T085007Z
LAST-MODIFIED:20251028T085007Z
UID:8652-1764428400-1764433800@guchil.nadi.my
SUMMARY:DILEA - WEBINAR MT EDISI 5
DESCRIPTION:
URL:https://guchil.nadi.my/event/dilea-webinar-mt-edisi-5/
LOCATION:NADI GUCHIL\, NADI GUCHIL
END:VEVENT
BEGIN:VEVENT
DTSTART;TZID=UTC:20251129T100000
DTEND;TZID=UTC:20251129T120000
DTSTAMP:20260422T144224
CREATED:20251028T060704Z
LAST-MODIFIED:20251028T060704Z
UID:8629-1764410400-1764417600@guchil.nadi.my
SUMMARY:KIDVENTURE (COHORT 8) : WEBINAR OPERASI PERNIAGAAN
DESCRIPTION:
URL:https://guchil.nadi.my/event/kidventure-cohort-8-webinar-operasi-perniagaan/
LOCATION:NADI GUCHIL\, NADI GUCHIL
END:VEVENT
BEGIN:VEVENT
DTSTART;TZID=UTC:20251128T150000
DTEND;TZID=UTC:20251128T170000
DTSTAMP:20260422T144224
CREATED:20251028T064937Z
LAST-MODIFIED:20251028T064937Z
UID:8636-1764342000-1764349200@guchil.nadi.my
SUMMARY:E-SPORT - WEBINAR
DESCRIPTION:
URL:https://guchil.nadi.my/event/e-sport-webinar-2/
LOCATION:NADI GUCHIL\, NADI GUCHIL
END:VEVENT
BEGIN:VEVENT
DTSTART;TZID=UTC:20251128T100000
DTEND;TZID=UTC:20251130T110000
DTSTAMP:20260422T144224
CREATED:20251028T064902Z
LAST-MODIFIED:20251028T064902Z
UID:8634-1764324000-1764500400@guchil.nadi.my
SUMMARY:E-SPORT - KELAS KESEDARAN
DESCRIPTION:
URL:https://guchil.nadi.my/event/e-sport-kelas-kesedaran-3/
LOCATION:NADI GUCHIL\, NADI GUCHIL
END:VEVENT
END:VCALENDAR