BEGIN:VCALENDAR
VERSION:2.0
PRODID:-//NADI Guchil, Kuala Krai - ECPv6.15.20//NONSGML v1.0//EN
CALSCALE:GREGORIAN
METHOD:PUBLISH
X-WR-CALNAME:NADI Guchil, Kuala Krai
X-ORIGINAL-URL:https://guchil.nadi.my
X-WR-CALDESC:Events for NADI Guchil, Kuala Krai
REFRESH-INTERVAL;VALUE=DURATION:PT1H
X-Robots-Tag:noindex
X-PUBLISHED-TTL:PT1H
BEGIN:VTIMEZONE
TZID:UTC
BEGIN:STANDARD
TZOFFSETFROM:+0000
TZOFFSETTO:+0000
TZNAME:UTC
DTSTART:20240101T000000
END:STANDARD
END:VTIMEZONE
BEGIN:VEVENT
DTSTART;TZID=UTC:20250202T153000
DTEND;TZID=UTC:20250202T163000
DTSTAMP:20260425T190614
CREATED:20250126T062844Z
LAST-MODIFIED:20250126T062844Z
UID:4240-1738510200-1738513800@guchil.nadi.my
SUMMARY:DiLEA - MATEMATIK
DESCRIPTION:
URL:https://guchil.nadi.my/event/dilea-matematik-5/
LOCATION:NADI GUCHIL\, NADI GUCHIL
END:VEVENT
BEGIN:VEVENT
DTSTART;TZID=UTC:20250203T153000
DTEND;TZID=UTC:20250203T163000
DTSTAMP:20260425T190614
CREATED:20250126T063000Z
LAST-MODIFIED:20250126T063000Z
UID:4242-1738596600-1738600200@guchil.nadi.my
SUMMARY:DiLEA - BAHASA MELAYU
DESCRIPTION:
URL:https://guchil.nadi.my/event/dilea-bahasa-melayu-5/
LOCATION:NADI GUCHIL\, NADI GUCHIL
END:VEVENT
BEGIN:VEVENT
DTSTART;TZID=UTC:20250203T160000
DTEND;TZID=UTC:20250203T170000
DTSTAMP:20260425T190614
CREATED:20250126T063125Z
LAST-MODIFIED:20250126T063125Z
UID:4245-1738598400-1738602000@guchil.nadi.my
SUMMARY:MAHIR - BAIKI GAJET
DESCRIPTION:
URL:https://guchil.nadi.my/event/mahir-baiki-gajet-5/
LOCATION:NADI GUCHIL\, NADI GUCHIL
END:VEVENT
BEGIN:VEVENT
DTSTART;TZID=UTC:20250204T153000
DTEND;TZID=UTC:20250204T163000
DTSTAMP:20260425T190614
CREATED:20250126T063217Z
LAST-MODIFIED:20250126T063217Z
UID:4247-1738683000-1738686600@guchil.nadi.my
SUMMARY:DiLEA - SEJARAH
DESCRIPTION:
URL:https://guchil.nadi.my/event/dilea-sejarah-5/
LOCATION:NADI GUCHIL\, NADI GUCHIL
END:VEVENT
BEGIN:VEVENT
DTSTART;TZID=UTC:20250206T153000
DTEND;TZID=UTC:20250206T163000
DTSTAMP:20260425T190614
CREATED:20250126T063503Z
LAST-MODIFIED:20250126T063503Z
UID:4249-1738855800-1738859400@guchil.nadi.my
SUMMARY:DiLEA - BAHASA INGGERIS
DESCRIPTION:
URL:https://guchil.nadi.my/event/dilea-bahasa-inggeris-5/
LOCATION:NADI GUCHIL\, NADI GUCHIL
END:VEVENT
BEGIN:VEVENT
DTSTART;TZID=UTC:20250207T093000
DTEND;TZID=UTC:20250207T103000
DTSTAMP:20260425T190614
CREATED:20250126T070912Z
LAST-MODIFIED:20250126T070912Z
UID:4253-1738920600-1738924200@guchil.nadi.my
SUMMARY:MAHIR - MASAK
DESCRIPTION:
URL:https://guchil.nadi.my/event/mahir-masak-6/
LOCATION:NADI GUCHIL\, NADI GUCHIL
END:VEVENT
BEGIN:VEVENT
DTSTART;TZID=UTC:20250209T153000
DTEND;TZID=UTC:20250209T163000
DTSTAMP:20260425T190614
CREATED:20250126T071057Z
LAST-MODIFIED:20250126T071057Z
UID:4255-1739115000-1739118600@guchil.nadi.my
SUMMARY:DiLEA - MATEMATIK
DESCRIPTION:
URL:https://guchil.nadi.my/event/dilea-matematik-6/
LOCATION:NADI GUCHIL\, NADI GUCHIL
END:VEVENT
BEGIN:VEVENT
DTSTART;TZID=UTC:20250210T153000
DTEND;TZID=UTC:20250210T163000
DTSTAMP:20260425T190614
CREATED:20250126T071153Z
LAST-MODIFIED:20250126T071153Z
UID:4257-1739201400-1739205000@guchil.nadi.my
SUMMARY:DiLEA - BAHASA MELAYU
DESCRIPTION:
URL:https://guchil.nadi.my/event/dilea-bahasa-melayu-6/
LOCATION:NADI GUCHIL\, NADI GUCHIL
END:VEVENT
BEGIN:VEVENT
DTSTART;TZID=UTC:20250210T160000
DTEND;TZID=UTC:20250210T170000
DTSTAMP:20260425T190614
CREATED:20250126T071305Z
LAST-MODIFIED:20250126T071305Z
UID:4259-1739203200-1739206800@guchil.nadi.my
SUMMARY:MAHIR - BAIKI GAJET
DESCRIPTION:
URL:https://guchil.nadi.my/event/mahir-baiki-gajet-6/
LOCATION:NADI GUCHIL\, NADI GUCHIL
END:VEVENT
BEGIN:VEVENT
DTSTART;TZID=UTC:20250211T153000
DTEND;TZID=UTC:20250211T163000
DTSTAMP:20260425T190614
CREATED:20250126T071340Z
LAST-MODIFIED:20250126T071340Z
UID:4261-1739287800-1739291400@guchil.nadi.my
SUMMARY:DiLEA - SEJARAH
DESCRIPTION:
URL:https://guchil.nadi.my/event/dilea-sejarah-6/
LOCATION:NADI GUCHIL\, NADI GUCHIL
END:VEVENT
BEGIN:VEVENT
DTSTART;TZID=UTC:20250213T153000
DTEND;TZID=UTC:20250213T163000
DTSTAMP:20260425T190614
CREATED:20250126T071424Z
LAST-MODIFIED:20250126T071424Z
UID:4263-1739460600-1739464200@guchil.nadi.my
SUMMARY:DiLEA - BAHASA INGGERIS
DESCRIPTION:
URL:https://guchil.nadi.my/event/dilea-bahasa-inggeris-6/
LOCATION:NADI GUCHIL\, NADI GUCHIL
END:VEVENT
BEGIN:VEVENT
DTSTART;TZID=UTC:20250214T093000
DTEND;TZID=UTC:20250214T103000
DTSTAMP:20260425T190614
CREATED:20250126T071453Z
LAST-MODIFIED:20250126T071453Z
UID:4265-1739525400-1739529000@guchil.nadi.my
SUMMARY:MAHIR - MASAK
DESCRIPTION:
URL:https://guchil.nadi.my/event/mahir-masak-7/
LOCATION:NADI GUCHIL\, NADI GUCHIL
END:VEVENT
BEGIN:VEVENT
DTSTART;TZID=UTC:20250216T153000
DTEND;TZID=UTC:20250216T163000
DTSTAMP:20260425T190614
CREATED:20250126T071540Z
LAST-MODIFIED:20250126T071540Z
UID:4267-1739719800-1739723400@guchil.nadi.my
SUMMARY:DiLEA - MATEMATIK
DESCRIPTION:
URL:https://guchil.nadi.my/event/dilea-matematik-7/
LOCATION:NADI GUCHIL\, NADI GUCHIL
END:VEVENT
BEGIN:VEVENT
DTSTART;TZID=UTC:20250217T153000
DTEND;TZID=UTC:20250217T163000
DTSTAMP:20260425T190614
CREATED:20250126T071621Z
LAST-MODIFIED:20250126T071621Z
UID:4269-1739806200-1739809800@guchil.nadi.my
SUMMARY:DiLEA - BAHASA MELAYU
DESCRIPTION:
URL:https://guchil.nadi.my/event/dilea-bahasa-melayu-7/
LOCATION:NADI GUCHIL\, NADI GUCHIL
END:VEVENT
BEGIN:VEVENT
DTSTART;TZID=UTC:20250217T160000
DTEND;TZID=UTC:20250217T170000
DTSTAMP:20260425T190614
CREATED:20250126T071706Z
LAST-MODIFIED:20250126T071706Z
UID:4271-1739808000-1739811600@guchil.nadi.my
SUMMARY:MAHIR - BAIKI GAJET
DESCRIPTION:
URL:https://guchil.nadi.my/event/mahir-baiki-gajet-7/
LOCATION:NADI GUCHIL\, NADI GUCHIL
END:VEVENT
BEGIN:VEVENT
DTSTART;TZID=UTC:20250218T153000
DTEND;TZID=UTC:20250218T163000
DTSTAMP:20260425T190614
CREATED:20250126T071748Z
LAST-MODIFIED:20250126T071748Z
UID:4273-1739892600-1739896200@guchil.nadi.my
SUMMARY:DiLEA - SEJARAH
DESCRIPTION:
URL:https://guchil.nadi.my/event/dilea-sejarah-7/
LOCATION:NADI GUCHIL\, NADI GUCHIL
END:VEVENT
BEGIN:VEVENT
DTSTART;TZID=UTC:20250220T153000
DTEND;TZID=UTC:20250220T163000
DTSTAMP:20260425T190614
CREATED:20250126T071833Z
LAST-MODIFIED:20250126T071833Z
UID:4275-1740065400-1740069000@guchil.nadi.my
SUMMARY:DiLEA - BAHASA INGGERIS
DESCRIPTION:
URL:https://guchil.nadi.my/event/dilea-bahasa-inggeris-7/
LOCATION:NADI GUCHIL\, NADI GUCHIL
END:VEVENT
BEGIN:VEVENT
DTSTART;TZID=UTC:20250221T093000
DTEND;TZID=UTC:20250221T103000
DTSTAMP:20260425T190614
CREATED:20250126T071907Z
LAST-MODIFIED:20250126T071907Z
UID:4277-1740130200-1740133800@guchil.nadi.my
SUMMARY:MAHIR - MASAK
DESCRIPTION:
URL:https://guchil.nadi.my/event/mahir-masak-8/
LOCATION:NADI GUCHIL\, NADI GUCHIL
END:VEVENT
BEGIN:VEVENT
DTSTART;TZID=UTC:20250223T153000
DTEND;TZID=UTC:20250223T163000
DTSTAMP:20260425T190614
CREATED:20250126T071950Z
LAST-MODIFIED:20250126T071950Z
UID:4279-1740324600-1740328200@guchil.nadi.my
SUMMARY:DiLEA - MATEMATIK
DESCRIPTION:
URL:https://guchil.nadi.my/event/dilea-matematik-8/
LOCATION:NADI GUCHIL\, NADI GUCHIL
END:VEVENT
BEGIN:VEVENT
DTSTART;TZID=UTC:20250224T153000
DTEND;TZID=UTC:20250224T163000
DTSTAMP:20260425T190614
CREATED:20250126T072035Z
LAST-MODIFIED:20250126T072035Z
UID:4281-1740411000-1740414600@guchil.nadi.my
SUMMARY:DiLEA - BAHASA MELAYU
DESCRIPTION:
URL:https://guchil.nadi.my/event/dilea-bahasa-melayu-8/
LOCATION:NADI GUCHIL\, NADI GUCHIL
END:VEVENT
BEGIN:VEVENT
DTSTART;TZID=UTC:20250224T160000
DTEND;TZID=UTC:20250224T170000
DTSTAMP:20260425T190614
CREATED:20250126T072122Z
LAST-MODIFIED:20250126T072122Z
UID:4283-1740412800-1740416400@guchil.nadi.my
SUMMARY:MAHIR - BAIKI GAJET
DESCRIPTION:
URL:https://guchil.nadi.my/event/mahir-baiki-gajet-8/
LOCATION:NADI GUCHIL\, NADI GUCHIL
END:VEVENT
BEGIN:VEVENT
DTSTART;TZID=UTC:20250225T153000
DTEND;TZID=UTC:20250225T163000
DTSTAMP:20260425T190614
CREATED:20250126T072200Z
LAST-MODIFIED:20250126T072200Z
UID:4285-1740497400-1740501000@guchil.nadi.my
SUMMARY:DiLEA - SEJARAH
DESCRIPTION:
URL:https://guchil.nadi.my/event/dilea-sejarah-8/
LOCATION:NADI GUCHIL\, NADI GUCHIL
END:VEVENT
BEGIN:VEVENT
DTSTART;TZID=UTC:20250227T153000
DTEND;TZID=UTC:20250227T163000
DTSTAMP:20260425T190614
CREATED:20250126T072243Z
LAST-MODIFIED:20250126T072243Z
UID:4287-1740670200-1740673800@guchil.nadi.my
SUMMARY:DiLEA - BAHASA INGGERIS
DESCRIPTION:
URL:https://guchil.nadi.my/event/dilea-bahasa-inggeris-8/
LOCATION:NADI GUCHIL\, NADI GUCHIL
END:VEVENT
BEGIN:VEVENT
DTSTART;TZID=UTC:20250228T153000
DTEND;TZID=UTC:20250228T163000
DTSTAMP:20260425T190614
CREATED:20250126T072312Z
LAST-MODIFIED:20250126T072312Z
UID:4289-1740756600-1740760200@guchil.nadi.my
SUMMARY:MAHIR - MASAK
DESCRIPTION:
URL:https://guchil.nadi.my/event/mahir-masak-9/
LOCATION:NADI GUCHIL\, NADI GUCHIL
END:VEVENT
END:VCALENDAR