BEGIN:VCALENDAR
VERSION:2.0
PRODID:-//NADI Guchil, Kuala Krai - ECPv6.15.20//NONSGML v1.0//EN
CALSCALE:GREGORIAN
METHOD:PUBLISH
X-WR-CALNAME:NADI Guchil, Kuala Krai
X-ORIGINAL-URL:https://guchil.nadi.my
X-WR-CALDESC:Events for NADI Guchil, Kuala Krai
REFRESH-INTERVAL;VALUE=DURATION:PT1H
X-Robots-Tag:noindex
X-PUBLISHED-TTL:PT1H
BEGIN:VTIMEZONE
TZID:UTC
BEGIN:STANDARD
TZOFFSETFROM:+0000
TZOFFSETTO:+0000
TZNAME:UTC
DTSTART:20240101T000000
END:STANDARD
END:VTIMEZONE
BEGIN:VEVENT
DTSTART;TZID=UTC:20250601T090000
DTEND;TZID=UTC:20250601T180000
DTSTAMP:20260425T141247
CREATED:20250523T084238Z
LAST-MODIFIED:20250523T084340Z
UID:5375-1748768400-1748800800@guchil.nadi.my
SUMMARY:DiLea
DESCRIPTION:
URL:https://guchil.nadi.my/event/dilea/
LOCATION:NADI GUCHIL\, NADI GUCHIL
END:VEVENT
BEGIN:VEVENT
DTSTART;TZID=UTC:20250603T093000
DTEND;TZID=UTC:20250603T113000
DTSTAMP:20260425T141247
CREATED:20250523T084558Z
LAST-MODIFIED:20250523T084558Z
UID:5377-1748943000-1748950200@guchil.nadi.my
SUMMARY:MAHIR JAHIT
DESCRIPTION:
URL:https://guchil.nadi.my/event/mahir-jahit-9/
LOCATION:NADI GUCHIL\, NADI GUCHIL
END:VEVENT
BEGIN:VEVENT
DTSTART;TZID=UTC:20250603T103000
DTEND;TZID=UTC:20250603T110000
DTSTAMP:20260425T141247
CREATED:20250523T084822Z
LAST-MODIFIED:20250523T084822Z
UID:5380-1748946600-1748948400@guchil.nadi.my
SUMMARY:WELLBEING WEBINAR
DESCRIPTION:
URL:https://guchil.nadi.my/event/wellbeing-webinar/
LOCATION:NADI GUCHIL\, NADI GUCHIL
END:VEVENT
BEGIN:VEVENT
DTSTART;TZID=UTC:20250604T103000
DTEND;TZID=UTC:20250604T110000
DTSTAMP:20260425T141247
CREATED:20250523T084908Z
LAST-MODIFIED:20250523T084908Z
UID:5382-1749033000-1749034800@guchil.nadi.my
SUMMARY:HEALTH TIPS
DESCRIPTION:
URL:https://guchil.nadi.my/event/health-tips/
LOCATION:NADI GUCHIL\, NADI GUCHIL
END:VEVENT
BEGIN:VEVENT
DTSTART;TZID=UTC:20250605T093000
DTEND;TZID=UTC:20250605T113000
DTSTAMP:20260425T141247
CREATED:20250523T084959Z
LAST-MODIFIED:20250523T084959Z
UID:5384-1749115800-1749123000@guchil.nadi.my
SUMMARY:MAHIR JAHIT
DESCRIPTION:
URL:https://guchil.nadi.my/event/mahir-jahit-10/
LOCATION:NADI GUCHIL\, NADI GUCHIL
END:VEVENT
BEGIN:VEVENT
DTSTART;TZID=UTC:20250605T103000
DTEND;TZID=UTC:20250605T110000
DTSTAMP:20260425T141247
CREATED:20250523T092015Z
LAST-MODIFIED:20250523T092015Z
UID:5451-1749119400-1749121200@guchil.nadi.my
SUMMARY:WELLBEING PODCAST
DESCRIPTION:
URL:https://guchil.nadi.my/event/wellbeing-podcast-4/
LOCATION:NADI GUCHIL\, NADI GUCHIL
END:VEVENT
BEGIN:VEVENT
DTSTART;TZID=UTC:20250609T093000
DTEND;TZID=UTC:20250609T113000
DTSTAMP:20260425T141247
CREATED:20250523T085048Z
LAST-MODIFIED:20250523T085048Z
UID:5386-1749461400-1749468600@guchil.nadi.my
SUMMARY:MAHIR JAHIT
DESCRIPTION:
URL:https://guchil.nadi.my/event/mahir-jahit-11/
LOCATION:NADI GUCHIL\, NADI GUCHIL
END:VEVENT
BEGIN:VEVENT
DTSTART;TZID=UTC:20250610T103000
DTEND;TZID=UTC:20250610T110000
DTSTAMP:20260425T141247
CREATED:20250523T085202Z
LAST-MODIFIED:20250523T085202Z
UID:5390-1749551400-1749553200@guchil.nadi.my
SUMMARY:WELLBEING WEBINAR
DESCRIPTION:
URL:https://guchil.nadi.my/event/wellbeing-webinar-2/
LOCATION:NADI GUCHIL\, NADI GUCHIL
END:VEVENT
BEGIN:VEVENT
DTSTART;TZID=UTC:20250610T143000
DTEND;TZID=UTC:20250610T163000
DTSTAMP:20260425T141247
CREATED:20250523T085124Z
LAST-MODIFIED:20250523T085124Z
UID:5388-1749565800-1749573000@guchil.nadi.my
SUMMARY:MAHIR JAHIT
DESCRIPTION:
URL:https://guchil.nadi.my/event/mahir-jahit-12/
LOCATION:NADI GUCHIL\, NADI GUCHIL
END:VEVENT
BEGIN:VEVENT
DTSTART;TZID=UTC:20250611T103000
DTEND;TZID=UTC:20250611T110000
DTSTAMP:20260425T141247
CREATED:20250523T085254Z
LAST-MODIFIED:20250523T085254Z
UID:5392-1749637800-1749639600@guchil.nadi.my
SUMMARY:HEALTH TIPS
DESCRIPTION:
URL:https://guchil.nadi.my/event/health-tips-2/
LOCATION:NADI GUCHIL\, NADI GUCHIL
END:VEVENT
BEGIN:VEVENT
DTSTART;TZID=UTC:20250612T093000
DTEND;TZID=UTC:20250612T113000
DTSTAMP:20260425T141247
CREATED:20250523T085326Z
LAST-MODIFIED:20250523T085326Z
UID:5394-1749720600-1749727800@guchil.nadi.my
SUMMARY:MAHIR JAHIT
DESCRIPTION:
URL:https://guchil.nadi.my/event/mahir-jahit-13/
LOCATION:NADI GUCHIL\, NADI GUCHIL
END:VEVENT
BEGIN:VEVENT
DTSTART;TZID=UTC:20250612T103000
DTEND;TZID=UTC:20250612T110000
DTSTAMP:20260425T141247
CREATED:20250523T085403Z
LAST-MODIFIED:20250523T085403Z
UID:5396-1749724200-1749726000@guchil.nadi.my
SUMMARY:WELLBEING PODCAST
DESCRIPTION:
URL:https://guchil.nadi.my/event/wellbeing-podcast/
LOCATION:NADI GUCHIL\, NADI GUCHIL
END:VEVENT
BEGIN:VEVENT
DTSTART;TZID=UTC:20250613T103000
DTEND;TZID=UTC:20250613T110000
DTSTAMP:20260425T141247
CREATED:20250523T085516Z
LAST-MODIFIED:20250523T085516Z
UID:5400-1749810600-1749812400@guchil.nadi.my
SUMMARY:WELLBEING WEBINAR
DESCRIPTION:
URL:https://guchil.nadi.my/event/wellbeing-webinar-3/
LOCATION:NADI GUCHIL\, NADI GUCHIL
END:VEVENT
BEGIN:VEVENT
DTSTART;TZID=UTC:20250613T150000
DTEND;TZID=UTC:20250613T170000
DTSTAMP:20260425T141247
CREATED:20250523T085432Z
LAST-MODIFIED:20250523T085432Z
UID:5398-1749826800-1749834000@guchil.nadi.my
SUMMARY:MAHIR JAHIT
DESCRIPTION:
URL:https://guchil.nadi.my/event/mahir-jahit-14/
LOCATION:NADI GUCHIL\, NADI GUCHIL
END:VEVENT
BEGIN:VEVENT
DTSTART;TZID=UTC:20250614T093000
DTEND;TZID=UTC:20250614T100000
DTSTAMP:20260425T141247
CREATED:20250523T085639Z
LAST-MODIFIED:20250523T085639Z
UID:5404-1749893400-1749895200@guchil.nadi.my
SUMMARY:WELLBEING EXERCISE
DESCRIPTION:
URL:https://guchil.nadi.my/event/wellbeing-exercise/
LOCATION:NADI GUCHIL\, NADI GUCHIL
END:VEVENT
BEGIN:VEVENT
DTSTART;TZID=UTC:20250614T143000
DTEND;TZID=UTC:20250614T163000
DTSTAMP:20260425T141247
CREATED:20250523T085555Z
LAST-MODIFIED:20250523T085555Z
UID:5402-1749911400-1749918600@guchil.nadi.my
SUMMARY:MAHIR JAHIT
DESCRIPTION:
URL:https://guchil.nadi.my/event/mahir-jahit-15/
LOCATION:NADI GUCHIL\, NADI GUCHIL
END:VEVENT
BEGIN:VEVENT
DTSTART;TZID=UTC:20250615T090000
DTEND;TZID=UTC:20250615T180000
DTSTAMP:20260425T141247
CREATED:20250523T085705Z
LAST-MODIFIED:20250523T085705Z
UID:5406-1749978000-1750010400@guchil.nadi.my
SUMMARY:DiLea
DESCRIPTION:
URL:https://guchil.nadi.my/event/dilea-2/
LOCATION:NADI GUCHIL\, NADI GUCHIL
END:VEVENT
BEGIN:VEVENT
DTSTART;TZID=UTC:20250616T093000
DTEND;TZID=UTC:20250616T113000
DTSTAMP:20260425T141247
CREATED:20250523T085748Z
LAST-MODIFIED:20250523T085748Z
UID:5408-1750066200-1750073400@guchil.nadi.my
SUMMARY:MAHIR JAHIT
DESCRIPTION:
URL:https://guchil.nadi.my/event/mahir-jahit-16/
LOCATION:NADI GUCHIL\, NADI GUCHIL
END:VEVENT
BEGIN:VEVENT
DTSTART;TZID=UTC:20250617T103000
DTEND;TZID=UTC:20250617T110000
DTSTAMP:20260425T141247
CREATED:20250523T085904Z
LAST-MODIFIED:20250523T085932Z
UID:5412-1750156200-1750158000@guchil.nadi.my
SUMMARY:WELLBEING WEBINAR
DESCRIPTION:
URL:https://guchil.nadi.my/event/wellbeing-webinar-4/
LOCATION:NADI GUCHIL\, NADI GUCHIL
END:VEVENT
BEGIN:VEVENT
DTSTART;TZID=UTC:20250617T143000
DTEND;TZID=UTC:20250617T163000
DTSTAMP:20260425T141247
CREATED:20250523T085829Z
LAST-MODIFIED:20250523T085829Z
UID:5410-1750170600-1750177800@guchil.nadi.my
SUMMARY:MAHIR JAHIT
DESCRIPTION:
URL:https://guchil.nadi.my/event/mahir-jahit-17/
LOCATION:NADI GUCHIL\, NADI GUCHIL
END:VEVENT
BEGIN:VEVENT
DTSTART;TZID=UTC:20250618T103000
DTEND;TZID=UTC:20250618T110000
DTSTAMP:20260425T141247
CREATED:20250523T090049Z
LAST-MODIFIED:20250523T090049Z
UID:5414-1750242600-1750244400@guchil.nadi.my
SUMMARY:HEALTH TIPS
DESCRIPTION:
URL:https://guchil.nadi.my/event/health-tips-3/
LOCATION:NADI GUCHIL\, NADI GUCHIL
END:VEVENT
BEGIN:VEVENT
DTSTART;TZID=UTC:20250619T093000
DTEND;TZID=UTC:20250619T113000
DTSTAMP:20260425T141247
CREATED:20250523T091034Z
LAST-MODIFIED:20250523T091034Z
UID:5419-1750325400-1750332600@guchil.nadi.my
SUMMARY:MAHIR JAHIT
DESCRIPTION:
URL:https://guchil.nadi.my/event/mahir-jahit-18/
LOCATION:NADI GUCHIL\, NADI GUCHIL
END:VEVENT
BEGIN:VEVENT
DTSTART;TZID=UTC:20250619T103000
DTEND;TZID=UTC:20250619T110000
DTSTAMP:20260425T141247
CREATED:20250523T091005Z
LAST-MODIFIED:20250523T091005Z
UID:5417-1750329000-1750330800@guchil.nadi.my
SUMMARY:WELLBEING PODCAST
DESCRIPTION:
URL:https://guchil.nadi.my/event/wellbeing-podcast-2/
LOCATION:NADI GUCHIL\, NADI GUCHIL
END:VEVENT
BEGIN:VEVENT
DTSTART;TZID=UTC:20250620T103000
DTEND;TZID=UTC:20250620T113000
DTSTAMP:20260425T141247
CREATED:20250523T091115Z
LAST-MODIFIED:20250523T091115Z
UID:5421-1750415400-1750419000@guchil.nadi.my
SUMMARY:WELLBEING WEBINAR
DESCRIPTION:
URL:https://guchil.nadi.my/event/wellbeing-webinar-5/
LOCATION:NADI GUCHIL\, NADI GUCHIL
END:VEVENT
BEGIN:VEVENT
DTSTART;TZID=UTC:20250620T150000
DTEND;TZID=UTC:20250620T170000
DTSTAMP:20260425T141247
CREATED:20250523T091141Z
LAST-MODIFIED:20250523T091141Z
UID:5423-1750431600-1750438800@guchil.nadi.my
SUMMARY:MAHIR JAHIT
DESCRIPTION:
URL:https://guchil.nadi.my/event/mahir-jahit-19/
LOCATION:NADI GUCHIL\, NADI GUCHIL
END:VEVENT
BEGIN:VEVENT
DTSTART;TZID=UTC:20250621T093000
DTEND;TZID=UTC:20250621T100000
DTSTAMP:20260425T141247
CREATED:20250523T091250Z
LAST-MODIFIED:20250523T091250Z
UID:5427-1750498200-1750500000@guchil.nadi.my
SUMMARY:WELLBEING EXERCISE
DESCRIPTION:
URL:https://guchil.nadi.my/event/wellbeing-exercise-2/
LOCATION:NADI GUCHIL\, NADI GUCHIL
END:VEVENT
BEGIN:VEVENT
DTSTART;TZID=UTC:20250621T110000
DTEND;TZID=UTC:20250621T120000
DTSTAMP:20260425T141247
CREATED:20250523T091217Z
LAST-MODIFIED:20250523T091217Z
UID:5425-1750503600-1750507200@guchil.nadi.my
SUMMARY:KOMUNITI MADANI
DESCRIPTION:
URL:https://guchil.nadi.my/event/komuniti-madani/
LOCATION:NADI GUCHIL\, NADI GUCHIL
END:VEVENT
BEGIN:VEVENT
DTSTART;TZID=UTC:20250622T090000
DTEND;TZID=UTC:20250622T180000
DTSTAMP:20260425T141247
CREATED:20250523T091320Z
LAST-MODIFIED:20250523T091320Z
UID:5429-1750582800-1750615200@guchil.nadi.my
SUMMARY:DiLea
DESCRIPTION:
URL:https://guchil.nadi.my/event/dilea-3/
LOCATION:NADI GUCHIL\, NADI GUCHIL
END:VEVENT
BEGIN:VEVENT
DTSTART;TZID=UTC:20250623T093000
DTEND;TZID=UTC:20250623T113000
DTSTAMP:20260425T141247
CREATED:20250523T091402Z
LAST-MODIFIED:20250523T091402Z
UID:5431-1750671000-1750678200@guchil.nadi.my
SUMMARY:MAHIR JAHIT
DESCRIPTION:
URL:https://guchil.nadi.my/event/mahir-jahit-20/
LOCATION:NADI GUCHIL\, NADI GUCHIL
END:VEVENT
BEGIN:VEVENT
DTSTART;TZID=UTC:20250624T103000
DTEND;TZID=UTC:20250624T110000
DTSTAMP:20260425T141247
CREATED:20250523T091513Z
LAST-MODIFIED:20250523T091513Z
UID:5435-1750761000-1750762800@guchil.nadi.my
SUMMARY:WELLBEING WEBINAR
DESCRIPTION:
URL:https://guchil.nadi.my/event/wellbeing-webinar-6/
LOCATION:NADI GUCHIL\, NADI GUCHIL
END:VEVENT
END:VCALENDAR