BEGIN:VCALENDAR
VERSION:2.0
PRODID:-//NADI Guchil, Kuala Krai - ECPv6.15.20//NONSGML v1.0//EN
CALSCALE:GREGORIAN
METHOD:PUBLISH
X-WR-CALNAME:NADI Guchil, Kuala Krai
X-ORIGINAL-URL:https://guchil.nadi.my
X-WR-CALDESC:Events for NADI Guchil, Kuala Krai
REFRESH-INTERVAL;VALUE=DURATION:PT1H
X-Robots-Tag:noindex
X-PUBLISHED-TTL:PT1H
BEGIN:VTIMEZONE
TZID:UTC
BEGIN:STANDARD
TZOFFSETFROM:+0000
TZOFFSETTO:+0000
TZNAME:UTC
DTSTART:20240101T000000
END:STANDARD
END:VTIMEZONE
BEGIN:VEVENT
DTSTART;TZID=UTC:20251001T090000
DTEND;TZID=UTC:20251008T180000
DTSTAMP:20260424T005945
CREATED:20250926T092936Z
LAST-MODIFIED:20250926T092936Z
UID:7977-1759309200-1759946400@guchil.nadi.my
SUMMARY:DILEA : REVISION VIDEO 9\, 10
DESCRIPTION:DI
URL:https://guchil.nadi.my/event/dilea-revision-video-9-10/
LOCATION:NADI GUCHIL\, NADI GUCHIL
END:VEVENT
BEGIN:VEVENT
DTSTART;TZID=UTC:20251003T150000
DTEND;TZID=UTC:20251005T170000
DTSTAMP:20260424T005945
CREATED:20250926T092022Z
LAST-MODIFIED:20250926T092022Z
UID:7967-1759503600-1759683600@guchil.nadi.my
SUMMARY:E-SPORT : AWARNESS CLASSES
DESCRIPTION:
URL:https://guchil.nadi.my/event/e-sport-awarness-classes/
LOCATION:NADI GUCHIL\, NADI GUCHIL
END:VEVENT
BEGIN:VEVENT
DTSTART;TZID=UTC:20251004T150000
DTEND;TZID=UTC:20251004T163000
DTSTAMP:20260424T005945
CREATED:20250926T093010Z
LAST-MODIFIED:20250926T093010Z
UID:7979-1759590000-1759595400@guchil.nadi.my
SUMMARY:DILEA : WEBINAR
DESCRIPTION:
URL:https://guchil.nadi.my/event/dilea-webinar/
LOCATION:NADI GUCHIL\, NADI GUCHIL
END:VEVENT
BEGIN:VEVENT
DTSTART;TZID=UTC:20251005T153000
DTEND;TZID=UTC:20251008T163000
DTSTAMP:20260424T005945
CREATED:20250926T092543Z
LAST-MODIFIED:20250926T092543Z
UID:7973-1759678200-1759941000@guchil.nadi.my
SUMMARY:DILEA - GUIDANCE TUITION
DESCRIPTION:
URL:https://guchil.nadi.my/event/dilea-guidance-tuition/
LOCATION:NADI GUCHIL\, NADI GUCHIL
END:VEVENT
BEGIN:VEVENT
DTSTART;TZID=UTC:20251006T090000
DTEND;TZID=UTC:20251012T180000
DTSTAMP:20260424T005945
CREATED:20250926T093124Z
LAST-MODIFIED:20250926T093124Z
UID:7981-1759741200-1760292000@guchil.nadi.my
SUMMARY:DILEA : ENGLISH PROFICIENCY
DESCRIPTION:
URL:https://guchil.nadi.my/event/dilea-english-proficiency/
LOCATION:NADI GUCHIL\, NADI GUCHIL
END:VEVENT
BEGIN:VEVENT
DTSTART;TZID=UTC:20251006T153000
DTEND;TZID=UTC:20251012T163000
DTSTAMP:20260424T005945
CREATED:20250926T092750Z
LAST-MODIFIED:20250926T092750Z
UID:7975-1759764600-1760286600@guchil.nadi.my
SUMMARY:DILEA - OPEN TUITION
DESCRIPTION:
URL:https://guchil.nadi.my/event/dilea-open-tuition/
LOCATION:NADI GUCHIL\, NADI GUCHIL
END:VEVENT
BEGIN:VEVENT
DTSTART;TZID=UTC:20251007T100000
DTEND;TZID=UTC:20251007T150000
DTSTAMP:20260424T005945
CREATED:20251001T031737Z
LAST-MODIFIED:20251001T031737Z
UID:8010-1759831200-1759849200@guchil.nadi.my
SUMMARY:EKLASS USAHAWAN - STRATEGI PEMASARAN DIGITAL & ASAS KOMUNIKASI VISUAL
DESCRIPTION:
URL:https://guchil.nadi.my/event/eklass-usahawan-strategi-pemasaran-digital-asas-komunikasi-visual/
LOCATION:NADI GUCHIL\, NADI GUCHIL
END:VEVENT
BEGIN:VEVENT
DTSTART;TZID=UTC:20251009T090000
DTEND;TZID=UTC:20251015T180000
DTSTAMP:20260424T005945
CREATED:20251001T015045Z
LAST-MODIFIED:20251001T015045Z
UID:7986-1760000400-1760551200@guchil.nadi.my
SUMMARY:DILEA : REVISION VIDEO 10\, 11
DESCRIPTION:
URL:https://guchil.nadi.my/event/dilea-revision-video-10-11/
LOCATION:NADI GUCHIL\, NADI GUCHIL
END:VEVENT
BEGIN:VEVENT
DTSTART;TZID=UTC:20251009T100000
DTEND;TZID=UTC:20251009T150000
DTSTAMP:20260424T005945
CREATED:20251001T031926Z
LAST-MODIFIED:20251001T031926Z
UID:8014-1760004000-1760022000@guchil.nadi.my
SUMMARY:EKLASS USAHAWAN - AI UNTUK MENCIPTA KANDUNGAN & MENGURUS\, MENGUKUR KEBERKESANAN PEMASARAN DIGITAL
DESCRIPTION:
URL:https://guchil.nadi.my/event/eklass-usahawan-ai-untuk-mencipta-kandungan-mengurus-mengukur-keberkesanan-pemasaran-digital/
LOCATION:NADI GUCHIL\, NADI GUCHIL
END:VEVENT
BEGIN:VEVENT
DTSTART;TZID=UTC:20251010T150000
DTEND;TZID=UTC:20251010T163000
DTSTAMP:20260424T005945
CREATED:20251001T032516Z
LAST-MODIFIED:20251001T032516Z
UID:8027-1760108400-1760113800@guchil.nadi.my
SUMMARY:CYBERSECURITY - WEBINAR ANCAMAN SIBER DI TEMPAT AWAM
DESCRIPTION:
URL:https://guchil.nadi.my/event/cybersecurity-webinar-ancaman-siber-di-tempat-awam/
LOCATION:NADI GUCHIL\, NADI GUCHIL
END:VEVENT
BEGIN:VEVENT
DTSTART;TZID=UTC:20251010T150000
DTEND;TZID=UTC:20251012T170000
DTSTAMP:20260424T005945
CREATED:20250926T092105Z
LAST-MODIFIED:20250926T092105Z
UID:7969-1760108400-1760288400@guchil.nadi.my
SUMMARY:E-SPORT : AWARNESS CLASSES
DESCRIPTION:
URL:https://guchil.nadi.my/event/e-sport-awarness-classes-2/
LOCATION:NADI GUCHIL\, NADI GUCHIL
END:VEVENT
BEGIN:VEVENT
DTSTART;TZID=UTC:20251011T100000
DTEND;TZID=UTC:20251011T110000
DTSTAMP:20260424T005945
CREATED:20251001T032123Z
LAST-MODIFIED:20251001T032123Z
UID:8018-1760176800-1760180400@guchil.nadi.my
SUMMARY:TINY TECHIES - BENGKEL SUMO ROBOT SESI 2 (RENDAH)
DESCRIPTION:
URL:https://guchil.nadi.my/event/tiny-techies-bengkel-sumo-robot-sesi-2-rendah/
LOCATION:NADI GUCHIL\, NADI GUCHIL
END:VEVENT
BEGIN:VEVENT
DTSTART;TZID=UTC:20251011T100000
DTEND;TZID=UTC:20251011T120000
DTSTAMP:20260424T005945
CREATED:20250926T091451Z
LAST-MODIFIED:20250926T091451Z
UID:7957-1760176800-1760184000@guchil.nadi.my
SUMMARY:COHORT 6 (KIDVENTURE) : WEBINAR PELAN PERNIAGAAN PERTAMA SAYA
DESCRIPTION:
URL:https://guchil.nadi.my/event/cohort-6-kidventure-webinar-pelan-perniagaan-pertama-saya/
LOCATION:NADI GUCHIL\, NADI GUCHIL
END:VEVENT
BEGIN:VEVENT
DTSTART;TZID=UTC:20251011T113000
DTEND;TZID=UTC:20251011T123000
DTSTAMP:20260424T005945
CREATED:20251001T032341Z
LAST-MODIFIED:20251001T032341Z
UID:8023-1760182200-1760185800@guchil.nadi.my
SUMMARY:TINY TECHIES - BENGKEL IOT INOVASI SESI 2 (MENENGAH)
DESCRIPTION:
URL:https://guchil.nadi.my/event/tiny-techies-bengkel-iot-inovasi-sesi-2-menengah/
LOCATION:NADI GUCHIL\, NADI GUCHIL
END:VEVENT
BEGIN:VEVENT
DTSTART;TZID=UTC:20251013T100000
DTEND;TZID=UTC:20251013T120000
DTSTAMP:20260424T005945
CREATED:20250926T091551Z
LAST-MODIFIED:20250926T091551Z
UID:7959-1760349600-1760356800@guchil.nadi.my
SUMMARY:COHORT 6 (KIDVENTURE) : VIDEO PERANCANGAN PERNIAGAAN & KEWANGAN
DESCRIPTION:
URL:https://guchil.nadi.my/event/cohort-6-kidventure-video-perancangan-perniagaan-kewangan/
LOCATION:NADI GUCHIL\, NADI GUCHIL
END:VEVENT
BEGIN:VEVENT
DTSTART;TZID=UTC:20251013T100000
DTEND;TZID=UTC:20251013T120000
DTSTAMP:20260424T005945
CREATED:20250926T091710Z
LAST-MODIFIED:20250926T091710Z
UID:7962-1760349600-1760356800@guchil.nadi.my
SUMMARY:COHORT 7 (KIDVENTURE) : PENDAFTARAN & TONTONAN VIDEO PRA-LATIHAN
DESCRIPTION:
URL:https://guchil.nadi.my/event/cohort-7-kidventure-pendaftaran-tontonan-video-pra-latihan/
LOCATION:NADI GUCHIL\, NADI GUCHIL
END:VEVENT
BEGIN:VEVENT
DTSTART;TZID=UTC:20251016T100000
DTEND;TZID=UTC:20251016T120000
DTSTAMP:20260424T005945
CREATED:20250926T081147Z
LAST-MODIFIED:20250926T091259Z
UID:7937-1760608800-1760616000@guchil.nadi.my
SUMMARY:COHORT 5 (USAHAWAN) : WEBINAR - PEMASARAN & OPERASI PERNIAGAAN
DESCRIPTION:
URL:https://guchil.nadi.my/event/cohort-5-webinar-pemasaran-operasi-perniagaan/
LOCATION:NADI GUCHIL\, NADI GUCHIL
END:VEVENT
BEGIN:VEVENT
DTSTART;TZID=UTC:20251016T153000
DTEND;TZID=UTC:20251021T163000
DTSTAMP:20260424T005945
CREATED:20251001T024559Z
LAST-MODIFIED:20251001T024559Z
UID:7992-1760628600-1761064200@guchil.nadi.my
SUMMARY:DILEA - OPEN TUITION
DESCRIPTION:
URL:https://guchil.nadi.my/event/dilea-open-tuition-2/
LOCATION:NADI GUCHIL\, NADI GUCHIL
END:VEVENT
BEGIN:VEVENT
DTSTART;TZID=UTC:20251016T153000
DTEND;TZID=UTC:20251022T163000
DTSTAMP:20260424T005945
CREATED:20251001T024930Z
LAST-MODIFIED:20251001T024930Z
UID:7994-1760628600-1761150600@guchil.nadi.my
SUMMARY:DILEA - REVISION VIDEO 11\, 12
DESCRIPTION:
URL:https://guchil.nadi.my/event/dilea-revision-video-11-12/
LOCATION:NADI GUCHIL\, NADI GUCHIL
END:VEVENT
BEGIN:VEVENT
DTSTART;TZID=UTC:20251017T144500
DTEND;TZID=UTC:20251017T170000
DTSTAMP:20260424T005945
CREATED:20251001T024401Z
LAST-MODIFIED:20251001T024401Z
UID:7988-1760712300-1760720400@guchil.nadi.my
SUMMARY:DILEA - GUIDANCE TUITION (BAHASA MELAYU & BAHASA INGGERIS)
DESCRIPTION:
URL:https://guchil.nadi.my/event/dilea-guidance-tuition-bahasa-melayu-bahasa-inggeris/
LOCATION:NADI GUCHIL\, NADI GUCHIL
END:VEVENT
BEGIN:VEVENT
DTSTART;TZID=UTC:20251018T100000
DTEND;TZID=UTC:20251018T110000
DTSTAMP:20260424T005945
CREATED:20251001T032151Z
LAST-MODIFIED:20251001T032151Z
UID:8020-1760781600-1760785200@guchil.nadi.my
SUMMARY:TINY TECHIES - BENGKEL SUMO ROBOT SESI 3 (RENDAH)
DESCRIPTION:
URL:https://guchil.nadi.my/event/tiny-techies-bengkel-sumo-robot-sesi-3-rendah/
LOCATION:NADI GUCHIL\, NADI GUCHIL
END:VEVENT
BEGIN:VEVENT
DTSTART;TZID=UTC:20251018T113000
DTEND;TZID=UTC:20251018T123000
DTSTAMP:20260424T005945
CREATED:20251001T032411Z
LAST-MODIFIED:20251001T032411Z
UID:8025-1760787000-1760790600@guchil.nadi.my
SUMMARY:TINY TECHIES - BENGKEL IOT INOVASI SESI 3 (MENENGAH)
DESCRIPTION:
URL:https://guchil.nadi.my/event/tiny-techies-bengkel-iot-inovasi-sesi-3-menengah/
LOCATION:NADI GUCHIL\, NADI GUCHIL
END:VEVENT
BEGIN:VEVENT
DTSTART;TZID=UTC:20251018T141500
DTEND;TZID=UTC:20251018T163000
DTSTAMP:20260424T005945
CREATED:20251001T024451Z
LAST-MODIFIED:20251001T024451Z
UID:7990-1760796900-1760805000@guchil.nadi.my
SUMMARY:DILEA - GUIDANCE TUITION (SEJARAH & MATEMATIK)
DESCRIPTION:
URL:https://guchil.nadi.my/event/dilea-guidance-tuition-sejarah-matematik/
LOCATION:NADI GUCHIL\, NADI GUCHIL
END:VEVENT
BEGIN:VEVENT
DTSTART;TZID=UTC:20251021T090000
DTEND;TZID=UTC:20251026T180000
DTSTAMP:20260424T005945
CREATED:20251001T025943Z
LAST-MODIFIED:20251001T025943Z
UID:7996-1761037200-1761501600@guchil.nadi.my
SUMMARY:DILEA - ENGLISH PROFICIENCY
DESCRIPTION:
URL:https://guchil.nadi.my/event/dilea-english-proficiency-2/
LOCATION:NADI GUCHIL\, NADI GUCHIL
END:VEVENT
BEGIN:VEVENT
DTSTART;TZID=UTC:20251021T100000
DTEND;TZID=UTC:20251021T150000
DTSTAMP:20260424T005945
CREATED:20251001T031813Z
LAST-MODIFIED:20251001T031813Z
UID:8012-1761040800-1761058800@guchil.nadi.my
SUMMARY:EKLASS USAHAWAN - STRATEGI PEMASARAN DIGITAL & ASAS KOMUNIKASI VISUAL
DESCRIPTION:
URL:https://guchil.nadi.my/event/eklass-usahawan-strategi-pemasaran-digital-asas-komunikasi-visual-2/
LOCATION:NADI GUCHIL\, NADI GUCHIL
END:VEVENT
BEGIN:VEVENT
DTSTART;TZID=UTC:20251021T150000
DTEND;TZID=UTC:20251021T170000
DTSTAMP:20260424T005945
CREATED:20250926T090916Z
LAST-MODIFIED:20250926T091316Z
UID:7947-1761058800-1761066000@guchil.nadi.my
SUMMARY:EMPOWHER COHORT 5 (USAHAWAN) - PODCAST : BUAL KOMBUCHA (INSPIRASI DI SEBALIK RASA)
DESCRIPTION:
URL:https://guchil.nadi.my/event/empowher-cohort-5-podcast-bual-kombucha-inspirasi-di-sebalik-rasa/
LOCATION:NADI GUCHIL\, NADI GUCHIL
END:VEVENT
BEGIN:VEVENT
DTSTART;TZID=UTC:20251023T090000
DTEND;TZID=UTC:20251029T180000
DTSTAMP:20260424T005945
CREATED:20251001T030252Z
LAST-MODIFIED:20251001T030252Z
UID:8004-1761210000-1761760800@guchil.nadi.my
SUMMARY:DILEA - REVISION VIDEO 12\, 13
DESCRIPTION:
URL:https://guchil.nadi.my/event/dilea-revision-video-12-13/
LOCATION:NADI GUCHIL\, NADI GUCHIL
END:VEVENT
BEGIN:VEVENT
DTSTART;TZID=UTC:20251023T100000
DTEND;TZID=UTC:20251023T150000
DTSTAMP:20260424T005945
CREATED:20251001T031948Z
LAST-MODIFIED:20251001T031948Z
UID:8016-1761213600-1761231600@guchil.nadi.my
SUMMARY:EKLASS USAHAWAN - AI UNTUK MENCIPTA KANDUNGAN & MENGURUS\, MENGUKUR KEBERKESANAN PEMASARAN DIGITAL
DESCRIPTION:
URL:https://guchil.nadi.my/event/eklass-usahawan-ai-untuk-mencipta-kandungan-mengurus-mengukur-keberkesanan-pemasaran-digital-2/
LOCATION:NADI GUCHIL\, NADI GUCHIL
END:VEVENT
BEGIN:VEVENT
DTSTART;TZID=UTC:20251023T153000
DTEND;TZID=UTC:20251027T163000
DTSTAMP:20260424T005945
CREATED:20251001T030042Z
LAST-MODIFIED:20251001T030042Z
UID:7998-1761233400-1761582600@guchil.nadi.my
SUMMARY:DILEA - OPEN TUITION
DESCRIPTION:
URL:https://guchil.nadi.my/event/dilea-open-tuition-3/
LOCATION:NADI GUCHIL\, NADI GUCHIL
END:VEVENT
BEGIN:VEVENT
DTSTART;TZID=UTC:20251024T150000
DTEND;TZID=UTC:20251024T163000
DTSTAMP:20260424T005945
CREATED:20251001T030133Z
LAST-MODIFIED:20251001T030133Z
UID:8000-1761318000-1761323400@guchil.nadi.my
SUMMARY:DILEA - PODCAST
DESCRIPTION:
URL:https://guchil.nadi.my/event/dilea-podcast/
LOCATION:NADI GUCHIL\, NADI GUCHIL
END:VEVENT
END:VCALENDAR